Workbook
Name Collaborateur: 'Ressources Humaines'!$A:$A

Sheet Suivi Développement
A1: Projet | B1: Module | C1: Fonctionnalité | D1: Tâche | E1: Responsable (R) | F1: Approbateur (A) | G1: Consulté (C) | H1: Informé (I) | I1: Date de début | J1: Date de fin estimée | K1: Date de fin réelle | L1: Statut | M1: Observation | N1: Nb Corrections | O1: Temps Correction (h) | P1: Temps Retard (h) | Q1: Temps Dev (h) | R1: Temps Total Réalisation (h)
E2: Roméo | I2: 45834 | J2: 45835.417 | K2: 45836 | N2: 0 | O2: 0 | P2: =IF(AND(ISNUMBER(K2), ISNUMBER(J2), K2 > J2), ROUND((K2 - J2)*8, 2), 0) -> 4.67 | Q2: =IF(AND(ISNUMBER(K2), ISNUMBER(I2)), ROUND((K2 - I2)*8, 2), "0") -> 16 | R2: =O2+Q2+P2 -> 20.67
E3: Roméo | I3: 45835 | J3: 45836.417 | K3: 45836 | N3: 5 | O3: 3 | P3: =IF(AND(ISNUMBER(K3), ISNUMBER(J3), K3 > J3), ROUND((K3 - J3)*8, 2), 0) -> 0 | Q3: =IF(AND(ISNUMBER(K3), ISNUMBER(I3)), ROUND((K3 - I3)*8, 2), "0") -> 8 | R3: =O3+Q3+P3 -> 11
P4: =IF(AND(ISNUMBER(K4), ISNUMBER(J4), K4 > J4), ROUND((K4 - J4)*8, 2), 0) -> 0 | Q4: =IF(AND(ISNUMBER(K4), ISNUMBER(I4)), ROUND((K4 - I4)*8, 2), "0") -> 0 | R4: =O4+Q4+P4 -> 0
P5: =IF(AND(ISNUMBER(K5), ISNUMBER(J5), K5 > J5), ROUND((K5 - J5)*8, 2), 0) -> 0 | Q5: =IF(AND(ISNUMBER(K5), ISNUMBER(I5)), ROUND((K5 - I5)*8, 2), "0") -> 0 | R5: =O5+Q5+P5 -> 0
P6: =IF(AND(ISNUMBER(K6), ISNUMBER(J6), K6 > J6), ROUND((K6 - J6)*8, 2), 0) -> 0 | Q6: =IF(AND(ISNUMBER(K6), ISNUMBER(I6)), ROUND((K6 - I6)*8, 2), "0") -> 0 | R6: =O6+Q6 -> 0
P7: =IF(AND(ISNUMBER(K7), ISNUMBER(J7), K7 > J7), ROUND((K7 - J7)*8, 2), 0) -> 0 | Q7: =IF(AND(ISNUMBER(K7), ISNUMBER(I7)), ROUND((K7 - I7)*8, 2), "0") -> 0 | R7: =O7+Q7 -> 0
P8: =IF(AND(ISNUMBER(K8), ISNUMBER(J8), K8 > J8), ROUND((K8 - J8)*8, 2), 0) -> 0 | Q8: =IF(AND(ISNUMBER(K8), ISNUMBER(I8)), ROUND((K8 - I8)*8, 2), "0") -> 0 | R8: =O8+Q8 -> 0
P9: =IF(AND(ISNUMBER(K9), ISNUMBER(J9), K9 > J9), ROUND((K9 - J9)*8, 2), 0) -> 0 | Q9: =IF(AND(ISNUMBER(K9), ISNUMBER(I9)), ROUND((K9 - I9)*8, 2), "0") -> 0 | R9: =O9+Q9 -> 0
P10: =IF(AND(ISNUMBER(K10), ISNUMBER(J10), K10 > J10), ROUND((K10 - J10)*8, 2), 0) -> 0 | Q10: =IF(AND(ISNUMBER(K10), ISNUMBER(I10)), ROUND((K10 - I10)*8, 2), "0") -> 0 | R10: =O10+Q10 -> 0
P11: =IF(AND(ISNUMBER(K11), ISNUMBER(J11), K11 > J11), ROUND((K11 - J11)*8, 2), 0) -> 0 | Q11: =IF(AND(ISNUMBER(K11), ISNUMBER(I11)), ROUND((K11 - I11)*8, 2), "0") -> 0 | R11: =O11+Q11 -> 0
P12: =IF(AND(ISNUMBER(K12), ISNUMBER(J12), K12 > J12), ROUND((K12 - J12)*8, 2), 0) -> 0 | Q12: =IF(AND(ISNUMBER(K12), ISNUMBER(I12)), ROUND((K12 - I12)*8, 2), "0") -> 0 | R12: =O12+Q12 -> 0
P13: =IF(AND(ISNUMBER(K13), ISNUMBER(J13), K13 > J13), ROUND((K13 - J13)*8, 2), 0) -> 0 | Q13: =IF(AND(ISNUMBER(K13), ISNUMBER(I13)), ROUND((K13 - I13)*8, 2), "0") -> 0 | R13: =O13+Q13 -> 0
P14: =IF(AND(ISNUMBER(K14), ISNUMBER(J14), K14 > J14), ROUND((K14 - J14)*8, 2), 0) -> 0 | Q14: =IF(AND(ISNUMBER(K14), ISNUMBER(I14)), ROUND((K14 - I14)*8, 2), "0") -> 0 | R14: =O14+Q14 -> 0
P15: =IF(AND(ISNUMBER(K15), ISNUMBER(J15), K15 > J15), ROUND((K15 - J15)*8, 2), 0) -> 0 | Q15: =IF(AND(ISNUMBER(K15), ISNUMBER(I15)), ROUND((K15 - I15)*8, 2), "0") -> 0 | R15: =O15+Q15 -> 0
P16: =IF(AND(ISNUMBER(K16), ISNUMBER(J16), K16 > J16), ROUND((K16 - J16)*8, 2), 0) -> 0 | Q16: =IF(AND(ISNUMBER(K16), ISNUMBER(I16)), ROUND((K16 - I16)*8, 2), "0") -> 0 | R16: =O16+Q16 -> 0
P17: =IF(AND(ISNUMBER(K17), ISNUMBER(J17), K17 > J17), ROUND((K17 - J17)*8, 2), 0) -> 0 | Q17: =IF(AND(ISNUMBER(K17), ISNUMBER(I17)), ROUND((K17 - I17)*8, 2), "0") -> 0 | R17: =O17+Q17 -> 0
... P160: =IF(AND(ISNUMBER(K160), ISNUMBER(J160), K160 > J160), ROUND((K160 - J160)*8, 2), 0) -> 0 | Q160: =IF(AND(ISNUMBER(K160), ISNUMBER(I160)), ROUND((K160 - I160)*8, 2), "0") -> 0 | R160: =O160+Q160 -> 0

Sheet Ressources Humaines
A1: Collaborateur | B1: Période Début | C1: Période Fin | D1: Nb Total Tâches Réalisées | E1: Nb Tâches Réalisées Sans Retard | F1: Nb Tâches Sans Retard Avec Correction | G1: Nb Tâches Sans Retard Sans Correction | H1: Nb Corrections Réalisées | I1: Nb Tâches Réalisées En Retard | J1: Nb Tâches En Retard Avec Correction | K1: Nb Tâches En Retard Sans Correction | L1: Temps Dev (h) | M1: Temps Correction (h) | N1: Temps Retard (h) | O1: Temps Total Réalisation (h) | P1: Temps Moyen De Réalisation (h)
A2: Roméo | D2: =IFERROR(COUNTIFS('Suivi Développement'!E:E, A2, 'Suivi Développement'!I:I, "<>", 'Suivi Développement'!K:K, "<>"), 0) -> 2 | E2: =IFERROR(COUNTIFS('Suivi Développement'!E:E, A2, 'Suivi Développement'!P:P, "=0", 'Suivi Développement'!I:I, "<>", 'Suivi Développement'!K:K, "<>"), 0) -> 1 | F2: =IFERROR(COUNTIFS('Suivi Développement'!E:E, A2, 'Suivi Développement'!P:P, "=0", 'Suivi Développement'!O:O, ">0", 'Suivi Développement'!I:I, "<>", 'Suivi Développement'!K:K, "<>"), 0) -> 1 | G2: =IFERROR(COUNTIFS('Suivi Développement'!E:E, A2, 'Suivi Développement'!P:P, "=0", 'Suivi Développement'!O:O, "=0", 'Suivi Développement'!I:I, "<>", 'Suivi Développement'!K:K, "<>"), 0) -> 0 | H2: =IFERROR(SUMIFS('Suivi Développement'!N:N, 'Suivi Développement'!E:E, A2, 'Suivi Développement'!I:I, "<>", 'Suivi Développement'!K:K, "<>"), 0) -> 5 | I2: =IFERROR(COUNTIFS('Suivi Développement'!E:E, A2, 'Suivi Développement'!P:P, ">0", 'Suivi Développement'!I:I, "<>", 'Suivi Développement'!K:K, "<>"), 0) -> 1 | J2: =IFERROR(COUNTIFS('Suivi Développement'!E:E, A2, 'Suivi Développement'!P:P, ">0", 'Suivi Développement'!O:O, ">0", 'Suivi Développement'!I:I, "<>", 'Suivi Développement'!K:K, "<>"), 0) -> 0 | K2: =IFERROR(COUNTIFS('Suivi Développement'!E:E, A2, 'Suivi Développement'!P:P, ">0", 'Suivi Développement'!O:O, "=0", 'Suivi Développement'!I:I, "<>", 'Suivi Développement'!K:K, "<>"), 0) -> 1 | L2: =IFERROR(SUMIFS('Suivi Développement'!Q:Q, 'Suivi Développement'!E:E, A2, 'Suivi Développement'!I:I, "<>", 'Suivi Développement'!K:K, "<>"), 0) -> 24 | M2: =IFERROR(SUMIFS('Suivi Développement'!O:O, 'Suivi Développement'!E:E, A2, 'Suivi Développement'!I:I, "<>", 'Suivi Développement'!K:K, "<>"), 0) -> 3 | N2: =IFERROR(SUMIFS('Suivi Développement'!P:P, 'Suivi Développement'!E:E, A2, 'Suivi Développement'!I:I, "<>", 'Suivi Développement'!K:K, "<>"), 0) -> 4.67 | O2: =IFERROR(SUMIFS('Suivi Développement'!R:R, 'Suivi Développement'!E:E, A2, 'Suivi Développement'!I:I, "<>", 'Suivi Développement'!K:K, "<>"), 0) -> 31.67 | P2: =IFERROR(IF(D2>0, O2/D2, 0), 0) -> 15.835
A3: Fawaz | D3: =IFERROR(COUNTIFS('Suivi Développement'!E:E, A3, 'Suivi Développement'!I:I, "<>", 'Suivi Développement'!K:K, "<>"), 0) -> 0 | E3: =IFERROR(COUNTIFS('Suivi Développement'!E:E, A3, 'Suivi Développement'!P:P, "=0", 'Suivi Développement'!I:I, "<>", 'Suivi Développement'!K:K, "<>"), 0) -> 0 | F3: =IFERROR(COUNTIFS('Suivi Développement'!E:E, A3, 'Suivi Développement'!P:P, "=0", 'Suivi Développement'!O:O, ">0", 'Suivi Développement'!I:I, "<>", 'Suivi Développement'!K:K, "<>"), 0) -> 0 | G3: =IFERROR(COUNTIFS('Suivi Développement'!E:E, A3, 'Suivi Développement'!P:P, "=0", 'Suivi Développement'!O:O, "=0", 'Suivi Développement'!I:I, "<>", 'Suivi Développement'!K:K, "<>"), 0) -> 0 | H3: =IFERROR(SUMIFS('Suivi Développement'!N:N, 'Suivi Développement'!E:E, A3, 'Suivi Développement'!I:I, "<>", 'Suivi Développement'!K:K, "<>"), 0) -> 0 | I3: =IFERROR(COUNTIFS('Suivi Développement'!E:E, A3, 'Suivi Développement'!P:P, ">0", 'Suivi Développement'!I:I, "<>", 'Suivi Développement'!K:K, "<>"), 0) -> 0 | J3: =IFERROR(COUNTIFS('Suivi Développement'!E:E, A3, 'Suivi Développement'!P:P, ">0", 'Suivi Développement'!O:O, ">0", 'Suivi Développement'!I:I, "<>", 'Suivi Développement'!K:K, "<>"), 0) -> 0 | K3: =IFERROR(COUNTIFS('Suivi Développement'!E:E, A3, 'Suivi Développement'!P:P, ">0", 'Suivi Développement'!O:O, "=0", 'Suivi Développement'!I:I, "<>", 'Suivi Développement'!K:K, "<>"), 0) -> 0 | L3: =IFERROR(SUMIFS('Suivi Développement'!Q:Q, 'Suivi Développement'!E:E, A3, 'Suivi Développement'!I:I, "<>", 'Suivi Développement'!K:K, "<>"), 0) -> 0 | M3: =IFERROR(SUMIFS('Suivi Développement'!O:O, 'Suivi Développement'!E:E, A3, 'Suivi Développement'!I:I, "<>", 'Suivi Développement'!K:K, "<>"), 0) -> 0 | N3: =IFERROR(SUMIFS('Suivi Développement'!P:P, 'Suivi Développement'!E:E, A3, 'Suivi Développement'!I:I, "<>", 'Suivi Développement'!K:K, "<>"), 0) -> 0 | O3: =IFERROR(SUMIFS('Suivi Développement'!R:R, 'Suivi Développement'!E:E, A3, 'Suivi Développement'!I:I, "<>", 'Suivi Développement'!K:K, "<>"), 0) -> 0 | P3: =IFERROR(IF(D3>0, O3/D3, 0), 0) -> 0
A4: Rafiou | D4: =IFERROR(COUNTIFS('Suivi Développement'!E:E, A4, 'Suivi Développement'!I:I, "<>", 'Suivi Développement'!K:K, "<>"), 0) -> 0 | E4: =IFERROR(COUNTIFS('Suivi Développement'!E:E, A4, 'Suivi Développement'!P:P, "=0", 'Suivi Développement'!I:I, "<>", 'Suivi Développement'!K:K, "<>"), 0) -> 0 | F4: =IFERROR(COUNTIFS('Suivi Développement'!E:E, A4, 'Suivi Développement'!P:P, "=0", 'Suivi Développement'!O:O, ">0", 'Suivi Développement'!I:I, "<>", 'Suivi Développement'!K:K, "<>"), 0) -> 0 | G4: =IFERROR(COUNTIFS('Suivi Développement'!E:E, A4, 'Suivi Développement'!P:P, "=0", 'Suivi Développement'!O:O, "=0", 'Suivi Développement'!I:I, "<>", 'Suivi Développement'!K:K, "<>"), 0) -> 0 | H4: =IFERROR(SUMIFS('Suivi Développement'!N:N, 'Suivi Développement'!E:E, A4, 'Suivi Développement'!I:I, "<>", 'Suivi Développement'!K:K, "<>"), 0) -> 0 | I4: =IFERROR(COUNTIFS('Suivi Développement'!E:E, A4, 'Suivi Développement'!P:P, ">0", 'Suivi Développement'!I:I, "<>", 'Suivi Développement'!K:K, "<>"), 0) -> 0 | J4: =IFERROR(COUNTIFS('Suivi Développement'!E:E, A4, 'Suivi Développement'!P:P, ">0", 'Suivi Développement'!O:O, ">0", 'Suivi Développement'!I:I, "<>", 'Suivi Développement'!K:K, "<>"), 0) -> 0 | K4: =IFERROR(COUNTIFS('Suivi Développement'!E:E, A4, 'Suivi Développement'!P:P, ">0", 'Suivi Développement'!O:O, "=0", 'Suivi Développement'!I:I, "<>", 'Suivi Développement'!K:K, "<>"), 0) -> 0 | L4: =IFERROR(SUMIFS('Suivi Développement'!Q:Q, 'Suivi Développement'!E:E, A4, 'Suivi Développement'!I:I, "<>", 'Suivi Développement'!K:K, "<>"), 0) -> 0 | M4: =IFERROR(SUMIFS('Suivi Développement'!O:O, 'Suivi Développement'!E:E, A4, 'Suivi Développement'!I:I, "<>", 'Suivi Développement'!K:K, "<>"), 0) -> 0 | N4: =IFERROR(SUMIFS('Suivi Développement'!P:P, 'Suivi Développement'!E:E, A4, 'Suivi Développement'!I:I, "<>", 'Suivi Développement'!K:K, "<>"), 0) -> 0 | O4: =IFERROR(SUMIFS('Suivi Développement'!R:R, 'Suivi Développement'!E:E, A4, 'Suivi Développement'!I:I, "<>", 'Suivi Développement'!K:K, "<>"), 0) -> 0 | P4: =IFERROR(IF(D4>0, O4/D4, 0), 0) -> 0
A5: Belfrid | D5: =IFERROR(COUNTIFS('Suivi Développement'!E:E, A5, 'Suivi Développement'!I:I, "<>", 'Suivi Développement'!K:K, "<>"), 0) -> 0 | E5: =IFERROR(COUNTIFS('Suivi Développement'!E:E, A5, 'Suivi Développement'!P:P, "=0", 'Suivi Développement'!I:I, "<>", 'Suivi Développement'!K:K, "<>"), 0) -> 0 | F5: =IFERROR(COUNTIFS('Suivi Développement'!E:E, A5, 'Suivi Développement'!P:P, "=0", 'Suivi Développement'!O:O, ">0", 'Suivi Développement'!I:I, "<>", 'Suivi Développement'!K:K, "<>"), 0) -> 0 | G5: =IFERROR(COUNTIFS('Suivi Développement'!E:E, A5, 'Suivi Développement'!P:P, "=0", 'Suivi Développement'!O:O, "=0", 'Suivi Développement'!I:I, "<>", 'Suivi Développement'!K:K, "<>"), 0) -> 0 | H5: =IFERROR(SUMIFS('Suivi Développement'!N:N, 'Suivi Développement'!E:E, A5, 'Suivi Développement'!I:I, "<>", 'Suivi Développement'!K:K, "<>"), 0) -> 0 | I5: =IFERROR(COUNTIFS('Suivi Développement'!E:E, A5, 'Suivi Développement'!P:P, ">0", 'Suivi Développement'!I:I, "<>", 'Suivi Développement'!K:K, "<>"), 0) -> 0 | J5: =IFERROR(COUNTIFS('Suivi Développement'!E:E, A5, 'Suivi Développement'!P:P, ">0", 'Suivi Développement'!O:O, ">0", 'Suivi Développement'!I:I, "<>", 'Suivi Développement'!K:K, "<>"), 0) -> 0 | K5: =IFERROR(COUNTIFS('Suivi Développement'!E:E, A5, 'Suivi Développement'!P:P, ">0", 'Suivi Développement'!O:O, "=0", 'Suivi Développement'!I:I, "<>", 'Suivi Développement'!K:K, "<>"), 0) -> 0 | L5: =IFERROR(SUMIFS('Suivi Développement'!Q:Q, 'Suivi Développement'!E:E, A5, 'Suivi Développement'!I:I, "<>", 'Suivi Développement'!K:K, "<>"), 0) -> 0 | M5: =IFERROR(SUMIFS('Suivi Développement'!O:O, 'Suivi Développement'!E:E, A5, 'Suivi Développement'!I:I, "<>", 'Suivi Développement'!K:K, "<>"), 0) -> 0 | N5: =IFERROR(SUMIFS('Suivi Développement'!P:P, 'Suivi Développement'!E:E, A5, 'Suivi Développement'!I:I, "<>", 'Suivi Développement'!K:K, "<>"), 0) -> 0 | O5: =IFERROR(SUMIFS('Suivi Développement'!R:R, 'Suivi Développement'!E:E, A5, 'Suivi Développement'!I:I, "<>", 'Suivi Développement'!K:K, "<>"), 0) -> 0 | P5: =IFERROR(IF(D5>0, O5/D5, 0), 0) -> 0
D6: =IFERROR(COUNTIFS('Suivi Développement'!E:E, A6, 'Suivi Développement'!I:I, "<>", 'Suivi Développement'!K:K, "<>"), 0) -> 0 | E6: =IFERROR(COUNTIFS('Suivi Développement'!E:E, A6, 'Suivi Développement'!P:P, "=0", 'Suivi Développement'!I:I, "<>", 'Suivi Développement'!K:K, "<>"), 0) -> 0 | F6: =IFERROR(COUNTIFS('Suivi Développement'!E:E, A6, 'Suivi Développement'!P:P, "=0", 'Suivi Développement'!O:O, ">0", 'Suivi Développement'!I:I, "<>", 'Suivi Développement'!K:K, "<>"), 0) -> 0 | G6: =IFERROR(COUNTIFS('Suivi Développement'!E:E, A6, 'Suivi Développement'!P:P, "=0", 'Suivi Développement'!O:O, "=0", 'Suivi Développement'!I:I, "<>", 'Suivi Développement'!K:K, "<>"), 0) -> 0 | H6: =IFERROR(SUMIFS('Suivi Développement'!N:N, 'Suivi Développement'!E:E, A6, 'Suivi Développement'!I:I, "<>", 'Suivi Développement'!K:K, "<>"), 0) -> 0 | I6: =IFERROR(COUNTIFS('Suivi Développement'!E:E, A6, 'Suivi Développement'!P:P, ">0", 'Suivi Développement'!I:I, "<>", 'Suivi Développement'!K:K, "<>"), 0) -> 0 | J6: =IFERROR(COUNTIFS('Suivi Développement'!E:E, A6, 'Suivi Développement'!P:P, ">0", 'Suivi Développement'!O:O, ">0", 'Suivi Développement'!I:I, "<>", 'Suivi Développement'!K:K, "<>"), 0) -> 0 | K6: =IFERROR(COUNTIFS('Suivi Développement'!E:E, A6, 'Suivi Développement'!P:P, ">0", 'Suivi Développement'!O:O, "=0", 'Suivi Développement'!I:I, "<>", 'Suivi Développement'!K:K, "<>"), 0) -> 0 | L6: =IFERROR(SUMIFS('Suivi Développement'!Q:Q, 'Suivi Développement'!E:E, A6, 'Suivi Développement'!I:I, "<>", 'Suivi Développement'!K:K, "<>"), 0) -> 0 | M6: =IFERROR(SUMIFS('Suivi Développement'!O:O, 'Suivi Développement'!E:E, A6, 'Suivi Développement'!I:I, "<>", 'Suivi Développement'!K:K, "<>"), 0) -> 0 | N6: =IFERROR(SUMIFS('Suivi Développement'!P:P, 'Suivi Développement'!E:E, A6, 'Suivi Développement'!I:I, "<>", 'Suivi Développement'!K:K, "<>"), 0) -> 0 | O6: =IFERROR(SUMIFS('Suivi Développement'!R:R, 'Suivi Développement'!E:E, A6, 'Suivi Développement'!I:I, "<>", 'Suivi Développement'!K:K, "<>"), 0) -> 0 | P6: =IFERROR(IF(D6>0, O6/D6, 0), 0) -> 0
D7: =IFERROR(COUNTIFS('Suivi Développement'!E:E, A7, 'Suivi Développement'!I:I, "<>", 'Suivi Développement'!K:K, "<>"), 0) -> 0 | E7: =IFERROR(COUNTIFS('Suivi Développement'!E:E, A7, 'Suivi Développement'!P:P, "=0", 'Suivi Développement'!I:I, "<>", 'Suivi Développement'!K:K, "<>"), 0) -> 0 | F7: =IFERROR(COUNTIFS('Suivi Développement'!E:E, A7, 'Suivi Développement'!P:P, "=0", 'Suivi Développement'!O:O, ">0", 'Suivi Développement'!I:I, "<>", 'Suivi Développement'!K:K, "<>"), 0) -> 0 | G7: =IFERROR(COUNTIFS('Suivi Développement'!E:E, A7, 'Suivi Développement'!P:P, "=0", 'Suivi Développement'!O:O, "=0", 'Suivi Développement'!I:I, "<>", 'Suivi Développement'!K:K, "<>"), 0) -> 0 | H7: =IFERROR(SUMIFS('Suivi Développement'!N:N, 'Suivi Développement'!E:E, A7, 'Suivi Développement'!I:I, "<>", 'Suivi Développement'!K:K, "<>"), 0) -> 0 | I7: =IFERROR(COUNTIFS('Suivi Développement'!E:E, A7, 'Suivi Développement'!P:P, ">0", 'Suivi Développement'!I:I, "<>", 'Suivi Développement'!K:K, "<>"), 0) -> 0 | J7: =IFERROR(COUNTIFS('Suivi Développement'!E:E, A7, 'Suivi Développement'!P:P, ">0", 'Suivi Développement'!O:O, ">0", 'Suivi Développement'!I:I, "<>", 'Suivi Développement'!K:K, "<>"), 0) -> 0 | K7: =IFERROR(COUNTIFS('Suivi Développement'!E:E, A7, 'Suivi Développement'!P:P, ">0", 'Suivi Développement'!O:O, "=0", 'Suivi Développement'!I:I, "<>", 'Suivi Développement'!K:K, "<>"), 0) -> 0 | L7: =IFERROR(SUMIFS('Suivi Développement'!Q:Q, 'Suivi Développement'!E:E, A7, 'Suivi Développement'!I:I, "<>", 'Suivi Développement'!K:K, "<>"), 0) -> 0 | M7: =IFERROR(SUMIFS('Suivi Développement'!O:O, 'Suivi Développement'!E:E, A7, 'Suivi Développement'!I:I, "<>", 'Suivi Développement'!K:K, "<>"), 0) -> 0 | N7: =IFERROR(SUMIFS('Suivi Développement'!P:P, 'Suivi Développement'!E:E, A7, 'Suivi Développement'!I:I, "<>", 'Suivi Développement'!K:K, "<>"), 0) -> 0 | O7: =IFERROR(SUMIFS('Suivi Développement'!R:R, 'Suivi Développement'!E:E, A7, 'Suivi Développement'!I:I, "<>", 'Suivi Développement'!K:K, "<>"), 0) -> 0 | P7: =IFERROR(IF(D7>0, O7/D7, 0), 0) -> 0
D8: =IFERROR(COUNTIFS('Suivi Développement'!E:E, A8, 'Suivi Développement'!I:I, "<>", 'Suivi Développement'!K:K, "<>"), 0) -> 0 | E8: =IFERROR(COUNTIFS('Suivi Développement'!E:E, A8, 'Suivi Développement'!P:P, "=0", 'Suivi Développement'!I:I, "<>", 'Suivi Développement'!K:K, "<>"), 0) -> 0 | F8: =IFERROR(COUNTIFS('Suivi Développement'!E:E, A8, 'Suivi Développement'!P:P, "=0", 'Suivi Développement'!O:O, ">0", 'Suivi Développement'!I:I, "<>", 'Suivi Développement'!K:K, "<>"), 0) -> 0 | G8: =IFERROR(COUNTIFS('Suivi Développement'!E:E, A8, 'Suivi Développement'!P:P, "=0", 'Suivi Développement'!O:O, "=0", 'Suivi Développement'!I:I, "<>", 'Suivi Développement'!K:K, "<>"), 0) -> 0 | H8: =IFERROR(SUMIFS('Suivi Développement'!N:N, 'Suivi Développement'!E:E, A8, 'Suivi Développement'!I:I, "<>", 'Suivi Développement'!K:K, "<>"), 0) -> 0 | I8: =IFERROR(COUNTIFS('Suivi Développement'!E:E, A8, 'Suivi Développement'!P:P, ">0", 'Suivi Développement'!I:I, "<>", 'Suivi Développement'!K:K, "<>"), 0) -> 0 | J8: =IFERROR(COUNTIFS('Suivi Développement'!E:E, A8, 'Suivi Développement'!P:P, ">0", 'Suivi Développement'!O:O, ">0", 'Suivi Développement'!I:I, "<>", 'Suivi Développement'!K:K, "<>"), 0) -> 0 | K8: =IFERROR(COUNTIFS('Suivi Développement'!E:E, A8, 'Suivi Développement'!P:P, ">0", 'Suivi Développement'!O:O, "=0", 'Suivi Développement'!I:I, "<>", 'Suivi Développement'!K:K, "<>"), 0) -> 0 | L8: =IFERROR(SUMIFS('Suivi Développement'!Q:Q, 'Suivi Développement'!E:E, A8, 'Suivi Développement'!I:I, "<>", 'Suivi Développement'!K:K, "<>"), 0) -> 0 | M8: =IFERROR(SUMIFS('Suivi Développement'!O:O, 'Suivi Développement'!E:E, A8, 'Suivi Développement'!I:I, "<>", 'Suivi Développement'!K:K, "<>"), 0) -> 0 | N8: =IFERROR(SUMIFS('Suivi Développement'!P:P, 'Suivi Développement'!E:E, A8, 'Suivi Développement'!I:I, "<>", 'Suivi Développement'!K:K, "<>"), 0) -> 0 | O8: =IFERROR(SUMIFS('Suivi Développement'!R:R, 'Suivi Développement'!E:E, A8, 'Suivi Développement'!I:I, "<>", 'Suivi Développement'!K:K, "<>"), 0) -> 0 | P8: =IFERROR(IF(D8>0, O8/D8, 0), 0) -> 0
D9: =IFERROR(COUNTIFS('Suivi Développement'!E:E, A9, 'Suivi Développement'!I:I, "<>", 'Suivi Développement'!K:K, "<>"), 0) -> 0 | E9: =IFERROR(COUNTIFS('Suivi Développement'!E:E, A9, 'Suivi Développement'!P:P, "=0", 'Suivi Développement'!I:I, "<>", 'Suivi Développement'!K:K, "<>"), 0) -> 0 | F9: =IFERROR(COUNTIFS('Suivi Développement'!E:E, A9, 'Suivi Développement'!P:P, "=0", 'Suivi Développement'!O:O, ">0", 'Suivi Développement'!I:I, "<>", 'Suivi Développement'!K:K, "<>"), 0) -> 0 | G9: =IFERROR(COUNTIFS('Suivi Développement'!E:E, A9, 'Suivi Développement'!P:P, "=0", 'Suivi Développement'!O:O, "=0", 'Suivi Développement'!I:I, "<>", 'Suivi Développement'!K:K, "<>"), 0) -> 0 | H9: =IFERROR(SUMIFS('Suivi Développement'!N:N, 'Suivi Développement'!E:E, A9, 'Suivi Développement'!I:I, "<>", 'Suivi Développement'!K:K, "<>"), 0) -> 0 | I9: =IFERROR(COUNTIFS('Suivi Développement'!E:E, A9, 'Suivi Développement'!P:P, ">0", 'Suivi Développement'!I:I, "<>", 'Suivi Développement'!K:K, "<>"), 0) -> 0 | J9: =IFERROR(COUNTIFS('Suivi Développement'!E:E, A9, 'Suivi Développement'!P:P, ">0", 'Suivi Développement'!O:O, ">0", 'Suivi Développement'!I:I, "<>", 'Suivi Développement'!K:K, "<>"), 0) -> 0 | K9: =IFERROR(COUNTIFS('Suivi Développement'!E:E, A9, 'Suivi Développement'!P:P, ">0", 'Suivi Développement'!O:O, "=0", 'Suivi Développement'!I:I, "<>", 'Suivi Développement'!K:K, "<>"), 0) -> 0 | L9: =IFERROR(SUMIFS('Suivi Développement'!Q:Q, 'Suivi Développement'!E:E, A9, 'Suivi Développement'!I:I, "<>", 'Suivi Développement'!K:K, "<>"), 0) -> 0 | M9: =IFERROR(SUMIFS('Suivi Développement'!O:O, 'Suivi Développement'!E:E, A9, 'Suivi Développement'!I:I, "<>", 'Suivi Développement'!K:K, "<>"), 0) -> 0 | N9: =IFERROR(SUMIFS('Suivi Développement'!P:P, 'Suivi Développement'!E:E, A9, 'Suivi Développement'!I:I, "<>", 'Suivi Développement'!K:K, "<>"), 0) -> 0 | O9: =IFERROR(SUMIFS('Suivi Développement'!R:R, 'Suivi Développement'!E:E, A9, 'Suivi Développement'!I:I, "<>", 'Suivi Développement'!K:K, "<>"), 0) -> 0 | P9: =IFERROR(IF(D9>0, O9/D9, 0), 0) -> 0
D10: =IFERROR(COUNTIFS('Suivi Développement'!E:E, A10, 'Suivi Développement'!I:I, "<>", 'Suivi Développement'!K:K, "<>"), 0) -> 0 | E10: =IFERROR(COUNTIFS('Suivi Développement'!E:E, A10, 'Suivi Développement'!P:P, "=0", 'Suivi Développement'!I:I, "<>", 'Suivi Développement'!K:K, "<>"), 0) -> 0 | F10: =IFERROR(COUNTIFS('Suivi Développement'!E:E, A10, 'Suivi Développement'!P:P, "=0", 'Suivi Développement'!O:O, ">0", 'Suivi Développement'!I:I, "<>", 'Suivi Développement'!K:K, "<>"), 0) -> 0 | G10: =IFERROR(COUNTIFS('Suivi Développement'!E:E, A10, 'Suivi Développement'!P:P, "=0", 'Suivi Développement'!O:O, "=0", 'Suivi Développement'!I:I, "<>", 'Suivi Développement'!K:K, "<>"), 0) -> 0 | H10: =IFERROR(SUMIFS('Suivi Développement'!N:N, 'Suivi Développement'!E:E, A10, 'Suivi Développement'!I:I, "<>", 'Suivi Développement'!K:K, "<>"), 0) -> 0 | I10: =IFERROR(COUNTIFS('Suivi Développement'!E:E, A10, 'Suivi Développement'!P:P, ">0", 'Suivi Développement'!I:I, "<>", 'Suivi Développement'!K:K, "<>"), 0) -> 0 | J10: =IFERROR(COUNTIFS('Suivi Développement'!E:E, A10, 'Suivi Développement'!P:P, ">0", 'Suivi Développement'!O:O, ">0", 'Suivi Développement'!I:I, "<>", 'Suivi Développement'!K:K, "<>"), 0) -> 0 | K10: =IFERROR(COUNTIFS('Suivi Développement'!E:E, A10, 'Suivi Développement'!P:P, ">0", 'Suivi Développement'!O:O, "=0", 'Suivi Développement'!I:I, "<>", 'Suivi Développement'!K:K, "<>"), 0) -> 0 | L10: =IFERROR(SUMIFS('Suivi Développement'!Q:Q, 'Suivi Développement'!E:E, A10, 'Suivi Développement'!I:I, "<>", 'Suivi Développement'!K:K, "<>"), 0) -> 0 | M10: =IFERROR(SUMIFS('Suivi Développement'!O:O, 'Suivi Développement'!E:E, A10, 'Suivi Développement'!I:I, "<>", 'Suivi Développement'!K:K, "<>"), 0) -> 0 | N10: =IFERROR(SUMIFS('Suivi Développement'!P:P, 'Suivi Développement'!E:E, A10, 'Suivi Développement'!I:I, "<>", 'Suivi Développement'!K:K, "<>"), 0) -> 0 | O10: =IFERROR(SUMIFS('Suivi Développement'!R:R, 'Suivi Développement'!E:E, A10, 'Suivi Développement'!I:I, "<>", 'Suivi Développement'!K:K, "<>"), 0) -> 0 | P10: =IFERROR(IF(D10>0, O10/D10, 0), 0) -> 0
