Workbook
Name annee: Tableau2[annee]
Name annee: Tableau2[annee]
Name annee: Tableau2[annee]
Name annee: Tableau2[annee]
Name annee: Tableau2[annee]
Name BUDGETCOVEBEACH: [1]!Tableau6[LIGNE BUDGET COVE BEACH]
Name EFG: Tableau25[MOIS]
Name EFG: Tableau25[MOIS]
Name EFG: Tableau25[MOIS]
Name EFG: Tableau25[MOIS]
Name EFG: Tableau25[MOIS]
Name mois: Tableau25[MOIS]
Name mois: Tableau25[MOIS]
Name mois: Tableau25[MOIS]
Name mois: Tableau25[MOIS]
Name mois: Tableau25[MOIS]
Name mois: Tableau25[MOIS]
Name STATUT: Tableau3[STATUT]
Name STATUT: Tableau3[STATUT]
Name STATUT: Tableau3[STATUT]
Name STATUT: Tableau3[STATUT]
Name STATUT: Tableau3[STATUT]

Sheet liste
B3: MOIS
B4: 44927
B5: 44958
B6: 44986
B7: 45017
B8: 45047
B9: 45078
B10: 45108
B11: 45139
B12: 45170
B13: 45200
B14: 45231
B15: 45261

Sheet Feuil2
A3: NUMERO AFFAIRE | B3: N° FACTURE | C3: Somme de MONTANT NET HT | D3: Somme de RESTANT DÛ NET HT
A4: AFFAIREAF001 SImAU | B4: 001-23 | C4: 7199340 | D4: 0
B5: 010-22 | C5: 7199340 | D5: -222660
B6: 012-22 | C6: 9599120 | D6: 0
A7: Total AFFAIREAF001 SImAU | C7: 23997800 | D7: -222660
A8: AFFAIREAF002 OFMAS | B8: 005-23 | C8: 8245000 | D8: 0
B9: 008-22 | C9: 8487500 | D9: 0
B10: 013-22 | C10: 7275000 | D10: 0
B11: 014-22 | C11: 8487500 | D11: 0
A12: Total AFFAIREAF002 OFMAS | C12: 32495000 | D12: 0
A13: AFFAIREAF003 EGBTP 1 | B13: 015-22 | C13: 12000000 | D13: 0
A14: Total AFFAIREAF003 EGBTP 1 | C14: 12000000 | D14: 0
A15: AFFAIREAF003 EGBTP 2 | B15: 002/23 | C15: 28000000 | D15: 0
B16: 007-23 | C16: 20664000 | D16: 20664000
A17: Total AFFAIREAF003 EGBTP 2 | C17: 48664000 | D17: 20664000
A18: AFFAIREAF004 CFAO | B18: 004-23 | C18: 7027650 | D18: 0
B19: 006-23 | C19: 7027650 | D19: 0
B20: 016-22 | C20: 6023700 | D20: 0
A21: Total AFFAIREAF004 CFAO | C21: 20079000 | D21: 0
A22: AFFAIREAF005 SCB-LAFARGE | B22: 017-22 | C22: 3201000 | D22: 0
A23: Total AFFAIREAF005 SCB-LAFARGE | C23: 3201000 | D23: 0
A24: AFFAIREAF012 DREAM BEACH | B24: 002-24 | C24: 7425001 | D24: 7425001
B25: 008-23 | C25: 16500001 | D25: -9900000
B26: 010-23 | C26: 7425000.8 | D26: 7425000.8
B27: 011-23 | C27: 7425000.8 | D27: 7425000.8
B28: 013-23 | C28: 7425000.8 | D28: 7425000.8
B29: 015-23 | C29: 7425000.8 | D29: 7425000.8
B30: 022-23 | C30: 7425000.8 | D30: 7425000.8
B31: 025-23 | C31: 7425001 | D31: 7425001
B32: 027-23 | C32: 7425001 | D32: 7425001
A33: Total AFFAIREAF012 DREAM BEACH | C33: 75900008 | D33: 49500007
A34: AFFAIREAF013 ADEOTI | B34: 001-24 | C34: 40385181 | D34: 0.28
B35: 003-24 | C35: 40385181 | D35: 0.28
B36: 004-24 | C36: 40385181 | D36: 0.28
B37: 005-24 | C37: 40385181 | D37: 0.28
B38: 009-23 | C38: 265546395 | D38: 0.10000002
B39: 009-24 | C39: 40385181 | D39: 0.28
B40: 010-24 | C40: 40385181 | D40: 0.28
B41: 019-23 | C41: 40385181 | D41: 0.28
B42: 020-23 | C42: 40385181 | D42: 0.28
...

Sheet PROJECTION RESTE A FACTURER
B3: PROJECTION RESTE A FACTURER PAR PROJET
B7: NUMERO AFFAIRE | C7: Montant du contrat | D7: Début contrat | E7: durée en mois | F7: Date de fin de projet | G7: Montant déjà facturé | H7: Montant déjà encaissé | I7: Impayé à date | J7: Montant reste à facturer
B8: AFFAIREAF012 DREAM BEACH | I8: 49500007
B9: AFFAIREAF003 EGBTP 2 | I9: 20664000
B10: AFFAIREAF013 ADEOTI | C10: 1287900000 | D10: 45096 | E10: 24 | F10: 45809 | G10: =+'ETAT DES FACTURATIONS GLOBALES'!K46 -> 305931576 | H10: ='ETAT DES FACTURATIONS GLOBALES'!O46 -> 3.0593158e+08 | I10: =G10-H10 -> 0.38 | J10: =+C10-G10 -> 981968424
B11: AFFAIREAF014 BOTINZA | C11: =1120900000*30.5% -> 341874500 | D11: 45187 | E11: 19 | F11: 45778 | G11: =+'ETAT DES FACTURATIONS GLOBALES'!K70 -> 67691151 | H11: ='ETAT DES FACTURATIONS GLOBALES'!O70 -> 73297893 | I11: =G11-H11 -> -5606741.8 | J11: =+C11-G11 -> 274183349
B12: AFFAIREAF015 CITES ADM LOT 1 | C12: 549000000 | D12: 45335 | E12: 24 | F12: 46023 | G12: =+'ETAT DES FACTURATIONS GLOBALES'!K89 -> 108702000 | H12: ='ETAT DES FACTURATIONS GLOBALES'!O89 -> 108702000 | I12: =G12-H12 -> 0 | J12: =+C12-G12 -> 440298000
B13: AFFAIREAF015 CITES ADM LOT 2 | C13: 333000000 | D13: 45446 | E13: 24 | F13: 46143 | G13: ='ETAT DES FACTURATIONS GLOBALES'!K103 -> 0 | H13: ='ETAT DES FACTURATIONS GLOBALES'!O103 -> 0 | I13: =G13-H13 -> 0 | J13: =+C13-G13 -> 333000000
B14: AFFAIREAF016 MATIERE BENIN | C14: 418667000 | D14: 45450 | E14: 6 | F14: 45627 | G14: =+'ETAT DES FACTURATIONS GLOBALES'!K110 -> 0 | H14: ='ETAT DES FACTURATIONS GLOBALES'!O110 -> 0 | I14: =G14-H14 -> 0 | J14: =+C14-G14 -> 418667000
B15: AFFAIREAF017 AGIRE | C15: 25000000 | D15: 45503 | E15: 3 | F15: 45566 | G15: =+'ETAT DES FACTURATIONS GLOBALES'!K113 -> 25000000 | H15: ='ETAT DES FACTURATIONS GLOBALES'!O113 -> 25000001 | I15: =G15-H15 -> -0.6 | J15: =+C15-G15 -> -0.12
B16: SETEC SOUS TRAITANCE | C16: 31282500 | D16: 45275 | E16: 12 | F16: 45627 | G16: =+'ETAT DES FACTURATIONS GLOBALES'!K125 -> 0 | H16: ='ETAT DES FACTURATIONS GLOBALES'!O125 -> 0 | I16: =G16-H16 -> 0 | J16: =+C16-G16 -> 31282500
B17: AFFAIREAF018 CONOCO+(protocole d'accord) | C17: =(1030187794*30%)+21000000 -> 3.3005634e+08 | D17: 45364 | E17: 6 | F17: 45536 | G17: ='ETAT DES FACTURATIONS GLOBALES'!K130 -> 0 | H17: ='ETAT DES FACTURATIONS GLOBALES'!O130 -> 0 | I17: =G17-H17 -> 0 | J17: =+C17-G17 -> 3.3005634e+08
B18: AFFAIREAF019 Mission DET prison civile de OUEDO | C18: 235374600 | E18: 21
B19: TOTAL GENERAL | C19: =SUM(C10:C18) -> 3.5521549e+09 | G19: =SUM(G8:G17) -> 5.0732473e+08 | H19: =SUM(H8:H17) -> 5.1293147e+08 | I19: =SUM(I8:I17) -> 64557265 | J19: =SUM(J8:J17) -> 2.8094556e+09
H22: Impayé | I22: =I19/G19 -> 0.12725038 | J22: Recouvrement | K22: =1-I22 -> 0.87274962
H24: Reste à facturer | I24: =J19/C19 -> 0.79091584

Sheet TDB
B2: TABLEAU DE BORD FINANCIER AU ______________________________
B4: COMPTE DE GESTION
B6: N° | C6: Année | E6: Désignation projet | F6: CA par projet | G6: Budget par projet | H6: Dépenses réelles | I6: %Cons. Budget | J6: Facturé | K6: Encaissé | L6: Reste dû sur facturation | M6: Date début | N6: Date fin | O6: Mois | P6: %Cons. Délai | Q6: %Facturation | R6: %Encaissement | S6: Etat du projet
B7: 1 | C7: 2022 | E7: GTP | F7: 15375000 | G7: 0 | H7: 0 | I7: =+IFERROR(H7/(IF(G7=0,F7,G7)),0) -> 0 | J7: =+#REF! -> #REF! | K7: =+#REF! -> #REF! | L7: =+J7-K7 -> #REF! | M7: 44676 | N7: 44722 | O7: 44722 | P7: =IFERROR(IF(S7="Terminé",1,(O7-M7+1)/(N7-M7)),0) -> 1 | Q7: =IFERROR(J7/F7,0) -> 0 | R7: =IFERROR(K7/J7,0) -> 0 | S7: Terminé
B8: 2 | C8: 2022 | E8: OFMAS | F8: 25000000 | G8: 0 | H8: 0 | I8: =+IFERROR(H8/(IF(G8=0,F8,G8)),0) -> 0 | J8: =+'ETAT DES FACTURATIONS GLOBALES'!H7+'ETAT DES FACTURATIONS GLOBALES'!H8+'ETAT DES FACTURATIONS GLOBALES'!H9 -> 25000000 | K8: =+'ETAT DES FACTURATIONS GLOBALES'!N7+'ETAT DES FACTURATIONS GLOBALES'!N8+'ETAT DES FACTURATIONS GLOBALES'!N9 -> 25000000 | L8: =+J8-K8 -> 0 | M8: 44808 | N8: 44914 | O8: 44914 | P8: =IFERROR(IF(S8="Terminé",1,(O8-M8+1)/(N8-M8)),0) -> 1 | Q8: =IFERROR(J8/F8,0) -> 1 | R8: =IFERROR(K8/J8,0) -> 1 | S8: Terminé
B9: 3 | C9: 2022 | D9: SIMAU | E9: SIMAU_1 | F9: 17318000 | G9: 0 | H9: 0 | I9: =+IFERROR(H9/(IF(G9=0,F9,G9)),0) -> 0 | J9: =#REF! -> #REF! | K9: 17318000 | L9: =+J9-K9 -> #REF! | M9: 44750 | N9: 44842 | O9: 44842 | P9: =IFERROR(IF(S9="Terminé",1,(O9-M9+1)/(N9-M9)),0) -> 1 | Q9: =IFERROR(J9/F9,0) -> 0 | R9: =IFERROR(K9/J9,0) -> 0 | S9: Terminé
C10: 2023 | D10: SIMAU | E10: SIMAU_2 | F10: 7422000 | J10: =#REF! -> #REF! | K10: 7422000
B11: 4 | C11: 2022 | D11: SCB LAFARGE | E11: SCB LAFARGE_1 | F11: =3300000*4/4 -> 3300000 | G11: 0 | H11: 0 | I11: =+IFERROR(H11/(IF(G11=0,F11,G11)),0) -> 0 | J11: =+'ETAT DES FACTURATIONS GLOBALES'!H20 -> 3300000 | K11: =+'ETAT DES FACTURATIONS GLOBALES'!N20 -> 3300000 | L11: =+J11-K11 -> 0 | M11: 44902 | N11: 45023 | O11: 45023 | P11: =IFERROR(IF(S11="Terminé",1,(O11-M11+1)/(N11-M11)),0) -> 1 | Q11: =IFERROR(J11/F11,0) -> 1 | R11: =IFERROR(K11/J11,0) -> 1 | S11: Terminé
B12: 5 | C12: 2022 | D12: EGBTP | E12: EGBTP_1 | F12: 12000000 | G12: 0 | H12: 0 | I12: =+IFERROR(H12/(IF(G12=0,F12,G12)),0) -> 0 | J12: 12000000 | K12: 12000000 | L12: =+J12-K12 -> 0 | M12: 44868 | N12: 44960 | O12: 44960 | P12: =IFERROR(IF(S12="Terminé",1,(O12-M12+1)/(N12-M12)),0) -> 1 | Q12: =IFERROR(J12/F12,0) -> 1 | R12: =IFERROR(K12/J12,0) -> 1 | S12: Terminé
C13: 2023 | D13: EGBTP | E13: EGBTP_2 | F13: 28000000 | J13: 28000000 | K13: 28000000
B14: 6 | C14: 2022 | D14: CFAO | E14: CFAO_1 | F14: 6210000 | G14: 0 | H14: 0 | I14: =+IFERROR(H14/(IF(G14=0,F14,G14)),0) -> 0 | J14: 6210000 | K14: 6210000 | L14: =+J14-K14 -> 0 | M14: 44904 | N14: 44994 | O14: 44994 | P14: =IFERROR(IF(S14="Terminé",1,(O14-M14+1)/(N14-M14)),0) -> 1 | Q14: =IFERROR(J14/F14,0) -> 1 | R14: =IFERROR(K14/J14,0) -> 1 | S14: Terminé
C15: 2023 | D15: CFAO | E15: CFAO_2 | F15: 14490000 | J15: 14490000 | K15: 14490000
B16: 7 | C16: 2023 | D16: ADEOTI PMO | E16: ADEOTI PMO_1 | F16: =(42044846*6)+(13277320*6) -> 331932996 | G16: =+[2]BUDGET!$H$116 -> 693386525 | H16: 434346444 | I16: =+IFERROR(H16/(IF(G16=0,F16,G16)),0) -> 0.62641316 | J16: 517815471 | K16: 517815471 | L16: =+J16-K16 -> 0 | M16: 45096 | N16: 45827 | O16: 45676 | P16: =IFERROR(IF(S16="Terminé",1,(O16-M16+1)/(N16-M16)),0) -> 0.79480164 | Q16: =IFERROR(J16/F16,0) -> 1.56 | R16: =IFERROR(K16/J16,0) -> 1 | S16: En cours
C17: 2024 | D17: ADEOTI PMO | E17: ADEOTI PMO_2 | F17: =(42044846*12)+(13277320*12) -> 663865992 | J17: =42044846*12 -> 504538152 | K17: =(42044846*10) -> 420448460 | L17: =+J17-K17 -> 84089692
C18: 2025 | D18: ADEOTI PMO | E18: ADEOTI PMO_3 | F18: =(42044846*2)+(13277320*2)+(55322165*4) -> 331932992 | J18: =(42044846*1) -> 42044846 | L18: =+J18-K18 -> 42044846
B19: 8 | C19: 2024 | D19: BOTINZA | E19: BOTINZA_1 | F19: 226529060 | G19: =+'[3]REVUE CE 27 JUIN'!$F$65 -> 182030000 | H19: 153392979 | I19: =+IFERROR(H19/(IF(G19=0,F19,G19)),0) -> 0.84267966 | J19: =+'ETAT DES FACTURATIONS GLOBALES'!H70 -> 68374900 | K19: =+'ETAT DES FACTURATIONS GLOBALES'!N70 -> 73981642 | L19: =+J19-K19 -> -5606741.8 | M19: 45240 | N19: 45808 | O19: 45667 | P19: =IFERROR(IF(S19="Terminé",1,(O19-M19+1)/(N19-M19)),0) -> 0.75352113 | Q19: =IFERROR(J19/F19,0) -> 0.30183721 | R19: =IFERROR(K19/J19,0) -> 1.082 | S19: En cours
C20: 2025 | D20: BOTINZA | E20: BOTINZA_2 | F20: =341900000-226529060 -> 115370940
B21: 9 | C21: 2024 | D21: SETEC (SOUS TRAITANCE) | E21: SETEC (SOUS TRAITANCE)_1 | F21: 26250000 | G21: 0 | H21: 0 | I21: =+IFERROR(H21/(IF(G21=0,F21,G21)),0) -> 0 | J21: 26250000 | K21: =+'ETAT DES FACTURATIONS GLOBALES'!N125 -> 0 | L21: =+J21-K21 -> 26250000 | M21: 45275 | N21: 45808 | O21: 45672 | P21: =IFERROR(IF(S21="Terminé",1,(O21-M21+1)/(N21-M21)),0) -> 0.7467167 | Q21: =IFERROR(J21/F21,0) -> 1 | R21: =IFERROR(K21/J21,0) -> 0 | S21: En cours
C22: 2025 | D22: SETEC (SOUS TRAITANCE) | E22: SETEC (SOUS TRAITANCE)_2 | F22: 6000000 | J22: 2100000 | L22: =+J22-K22 -> 2100000
B23: 10 | C23: 2023 | D23: OFMAS | E23: OFMAS | F23: 8500000 | G23: 0 | H23: 0 | I23: =+IFERROR(H23/(IF(G23=0,F23,G23)),0) -> 0 | J23: =+'ETAT DES FACTURATIONS GLOBALES'!H10 -> 8500000 | K23: =+'ETAT DES FACTURATIONS GLOBALES'!N10 -> 8500000 | L23: =+J23-K23 -> 0 | M23: 45178 | N23: 45239 | O23: 45239 | P23: =IFERROR(IF(S23="Terminé",1,(O23-M23+1)/(N23-M23)),0) -> 1 | Q23: =IFERROR(J23/F23,0) -> 1 | R23: =IFERROR(K23/J23,0) -> 1 | S23: Terminé
B24: 11 | C24: 2023 | D24: EGBTP | E24: EGBTP | F24: 20664000 | G24: 0 | H24: 0 | I24: =+IFERROR(H24/(IF(G24=0,F24,G24)),0) -> 0 | J24: =+#REF! -> #REF! | K24: =+#REF! -> #REF! | L24: =+J24-K24 -> #REF! | M24: 45051 | N24: 45417 | O24: 45417 | P24: =IFERROR(IF(S24="Terminé",1,(O24-M24+1)/(N24-M24)),0) -> 1.0027322 | Q24: =IFERROR(J24/F24,0) -> 0 | R24: =IFERROR(K24/J24,0) -> 0 | S24: Suspendu
B25: 12 | C25: 2023 | D25: DREAM BEACH | E25: DREAM BEACH_1 | F25: 70592790 | G25: 0 | H25: 0 | I25: =+IFERROR(H25/(IF(G25=0,F25,G25)),0) -> 0 | J25: 70592790 | K25: 17010310 | L25: =+J25-K25 -> 53582480 | M25: 45077 | N25: 45688 | O25: 45688 | P25: =IFERROR(IF(S25="Terminé",1,(O25-M25+1)/(N25-M25)),0) -> 1.0016367 | Q25: =IFERROR(J25/F25,0) -> 1 | R25: =IFERROR(K25/J25,0) -> 0.24096384 | S25: Suspendu
C26: 2024 | D26: DREAM BEACH | E26: DREAM BEACH_2 | F26: =7654640-7654640 -> 0 | J26: 7654640 | L26: =+J26-K26 -> 7654640 | S26: Suspendu
B27: 13 | C27: 2024 | D27: CITES ADMINISTRATIVES (1&2) | E27: CITES ADMINISTRATIVES (1&2)_1 | F27: =423496500+18075000 -> 441571500 | G27: 445022000 | H27: 161608321 | I27: =+IFERROR(H27/(IF(G27=0,F27,G27)),0) -> 0.36314681 | J27: 441571500 | K27: =+'ETAT DES FACTURATIONS GLOBALES'!N89+'ETAT DES FACTURATIONS GLOBALES'!N103 -> 109800000 | L27: =+J27-K27 -> 331771500 | M27: 45352 | N27: 46081 | O27: 45658 | P27: =IFERROR(IF(S27="Terminé",1,(O27-M27+1)/(N27-M27)),0) -> 0.42112483 | Q27: =IFERROR(J27/F27,0) -> 1 | R27: =IFERROR(K27/J27,0) -> 0.24865735 | S27: En cours
C28: 2025 | D28: CITES ADMINISTRATIVES (1&2) | E28: CITES ADMINISTRATIVES (1&2)_2 | F28: =31000000*12 -> 372000000 | J28: =30715500+18075000+12640500 -> 61431000 | L28: =+J28-K28 -> 61431000
C29: 2026 | D29: CITES ADMINISTRATIVES (1&2) | E29: CITES ADMINISTRATIVES (1&2)_3 | F29: =882000000-423496500-372000000 -> 86503500
B30: 14 | C30: 2024 | D30: MATIERE | E30: MATIERE | F30: 431615463 | G30: 0 | H30: 161547108 | I30: =+IFERROR(H30/(IF(G30=0,F30,G30)),0) -> 0.3742848 | J30: =+'ETAT DES FACTURATIONS GLOBALES'!H110 -> 0 | K30: =+'ETAT DES FACTURATIONS GLOBALES'!N110 -> 0 | L30: =+J30-K30 -> 0 | M30: 45450 | N30: 45633 | O30: 45633 | P30: =IFERROR(IF(S30="Terminé",1,(O30-M30+1)/(N30-M30)),0) -> 1 | Q30: =IFERROR(J30/F30,0) -> 0 | R30: =IFERROR(K30/J30,0) -> 0 | S30: Terminé
B31: 15 | C31: 2024 | D31: AGIRE | E31: AGIRE | F31: 25773196 | H31: 0 | I31: =+IFERROR(H31/(IF(G31=0,F31,G31)),0) -> 0 | J31: =+'ETAT DES FACTURATIONS GLOBALES'!H113 -> 25773196 | K31: =+'ETAT DES FACTURATIONS GLOBALES'!N113 -> 25773197 | L31: =+J31-K31 -> -0.6 | M31: 45503 | N31: 45595 | P31: =IFERROR(IF(S31="Terminé",1,(O31-M31+1)/(N31-M31)),0) -> 1 | Q31: =IFERROR(J31/F31,0) -> 1 | R31: =IFERROR(K31/J31,0) -> 1 | S31: Terminé
B32: 16 | C32: 2024 | D32: CONOCO | E32: CONOCO_1 | F32: 237988922 | G32: 0 | H32: 284111717 | I32: =+IFERROR(H32/(IF(G32=0,F32,G32)),0) -> 1.1938023 | J32: =+'ETAT DES FACTURATIONS GLOBALES'!H130 -> 0 | K32: =+'ETAT DES FACTURATIONS GLOBALES'!N130 -> 0 | L32: =+J32-K32 -> 0 | M32: 45447 | N32: 45630 | O32: 45661 | P32: =IFERROR(IF(S32="Terminé",1,(O32-M32+1)/(N32-M32)),0) -> 1.1748634 | Q32: =IFERROR(J32/F32,0) -> 0 | R32: =IFERROR(K32/J32,0) -> 0 | S32: En cours
C33: 2025 | D33: CONOCO | E33: CONOCO_2 | F33: =309056338-237988922 -> 71067416
B34: 17 | C34: 2024 | D34: NATIVE HOTEL | E34: NATIVE HOTEL_1 | F34: 5600000 | G34: 0 | H34: 25300 | I34: =+IFERROR(H34/(IF(G34=0,F34,G34)),0) -> 0.0045178571 | J34: 5600000 | K34: 5600000 | L34: =+J34-K34 -> 0 | M34: 45596 | N34: 45808 | O34: 45688 | P34: =IFERROR(IF(S34="Terminé",1,(O34-M34+1)/(N34-M34)),0) -> 0.43867925 | Q34: =IFERROR(J34/F34,0) -> 1 | R34: =IFERROR(K34/J34,0) -> 1 | S34: En cours
C35: 2025 | D35: NATIVE HOTEL | E35: NATIVE HOTEL_2 | F35: =11200000-5600000 -> 5600000 | J35: 1120000 | K35: 1120000 | L35: =+J35-K35 -> 0
B36: 18 | C36: 2024 | D36: JULIUS BERGER | E36: JULIUS BERGER_1 | F36: 9900000 | G36: 0 | H36: 4241423 | I36: =+IFERROR(H36/(IF(G36=0,F36,G36)),0) -> 0.42842657 | J36: 9900000 | K36: =+'ETAT DES FACTURATIONS GLOBALES'!N151 -> 0 | L36: =+J36-K36 -> 9900000 | M36: 45607 | N36: 46337 | O36: 45668 | P36: =IFERROR(IF(S36="Terminé",1,(O36-M36+1)/(N36-M36)),0) -> 0.084931507 | Q36: =IFERROR(J36/F36,0) -> 1 | R36: =IFERROR(K36/J36,0) -> 0 | S36: En cours
C37: 2025 | D37: JULIUS BERGER | E37: JULIUS BERGER_2 | F37: =4950000*12 -> 59400000 | J37: 4950000 | L37: =+J37-K37 -> 4950000
C38: 2026 | D38: JULIUS BERGER | E38: JULIUS BERGER_3 | F38: =4950000*10 -> 49500000
B39: 19 | C39: 2025 | D39: DREAM BEACH | E39: DREAM BEACH_1 | F39: =7500000*12 -> 90000000 | G39: 0 | H39: 4219711 | I39: =+IFERROR(H39/(IF(G39=0,F39,G39)),0) -> 0.046885678 | J39: =+'ETAT DES FACTURATIONS GLOBALES'!H170 -> 0 | K39: =+'ETAT DES FACTURATIONS GLOBALES'!N170 -> 0 | L39: =+J39-K39 -> 0 | M39: 45623 | N39: 46234 | O39: 45684 | P39: =IFERROR(IF(S39="Terminé",1,(O39-M39+1)/(N39-M39)),0) -> 0.101473 | Q39: =IFERROR(J39/F39,0) -> 0 | R39: =IFERROR(K39/J39,0) -> 0 | S39: En cours
C40: 2026 | D40: DREAM BEACH | E40: DREAM BEACH_2 | F40: =7500000*4 -> 30000000
B41: 20 | C41: 2025 | D41: PRISON CIVILE DE OUEDO | E41: PRISON CIVILE DE OUEDO_1 | F41: =(199470000/19)*10 -> 1.0498421e+08 | G41: 0 | H41: 3244860 | I41: =+IFERROR(H41/(IF(G41=0,F41,G41)),0) -> 0.030908076 | J41: 0 | K41: 0 | L41: =+J41-K41 -> 0 | M41: 45677 | N41: 46295 | O41: 45677 | P41: =IFERROR(IF(S41="Terminé",1,(O41-M41+1)/(N41-M41)),0) -> 0.001618123 | Q41: =IFERROR(J41/F41,0) -> 0 | R41: =IFERROR(K41/J41,0) -> 0 | S41: En cours
C42: 2026 | D42: PRISON CIVILE DE OUEDO | E42: PRISON CIVILE DE OUEDO_2 | F42: =199470000*9/19 -> 94485789
B43: 21 | C43: 2025 | E43: 9 PONTS HYDRAULIQUES | G43: 0 | H43: 0 | I43: =+IFERROR(H43/(IF(G43=0,F43,G43)),0) -> 0 | L43: =+J43-K43 -> 0 | P43: =IFERROR(IF(S43="Terminé",1,(O43-M43+1)/(N43-M43)),0) -> 0 | Q43: =IFERROR(J43/F43,0) -> 0 | R43: =IFERROR(K43/J43,0) -> 0 | S43: En cours
...

Sheet DETAILS PROJETS
B4: N° | C4: Année | D4: ENTITE | E4: Désignation projet | F4: CA par projet | G4: Etat du projet
B5: 1 | C5: 2022 | D5: GTP | E5: GTP | F5: 15375000 | G5: Terminé
B6: 2 | C6: 2022 | D6: OFMAS | E6: OFMAS | F6: 25000000 | G6: Terminé
B7: 3 | C7: 2022 | D7: SIMAU | E7: SIMAU | F7: 24740000 | G7: Terminé
B8: 4 | C8: 2022 | D8: SCB LAFARGE | E8: SCB LAFARGE | F8: 3300000 | G8: Terminé
B9: 5 | C9: 2022 | D9: EGBTP | E9: EGBTP | F9: 40000000 | G9: Terminé
B10: 6 | C10: 2022 | D10: CFAO | E10: CFAO | F10: 20700000 | G10: Terminé
B11: 7 | C11: 2023 | D11: ADEOTI | E11: ADEOTI PMO | F11: 1327731959 | G11: En cours
B12: 8 | C12: 2023 | D12: BOTINZA | E12: BOTINZA | F12: 341900000 | G12: En cours
B13: 9 | C13: 2023 | D13: SETEC | E13: SETEC (SOUS TRAITANCE) | F13: 32250000 | G13: En cours
B14: 10 | C14: 2023 | D14: OFMAS | E14: OFMAS | F14: 8500000 | G14: Terminé
B15: 11 | C15: 2023 | D15: EGBTP | E15: EGBTP | F15: 68880000 | G15: Suspendu
B16: 12 | C16: 2023 | D16: COVE BEACH | E16: DREAM BEACH | F16: 165000000 | G16: Suspendu
... B21: 17 | C21: 2024 | D21: JULIUS BERGER | E21: Mise à disposition d’un Contract Manager | F21: 118800000 | G21: En cours
B22: 18 | C22: 2024 | D22: COVE BEACH | E22: Hotel Cove Beach | F22: =7500000*16 -> 120000000 | G22: En cours
B23: 19 | C23: 2025 | D23: SIRAT | E23: PRISON CIVILE DE OUEDO | F23: 199470000 | G23: En cours
B24: 20 | C24: 2025 | D24: MATIERE | E24: Mise en place d'un Bureau de Management de Projet (PMO) pour l'Entreprise MATIERE BENIN (12 mois) | F24: 384911850 | G24: En cours
B25: 21 | C25: 2025 | D25: SIRAT | E25: HOTEL DE VILLE DE PORTO | F25: 372908000 | G25: En cours de contractualisation
B26: 22 | C26: 2025 | D26: SIRAT | E26: CONTRÔLE DES TRAVAUX CARREFOUR BELIER | F26: 74884000 | G26: En cours de contractualisation
B27: 23 | C27: 2025 | D27: SIRAT | E27: DET 22 STADES COMMUNAUX | F27: 323000000 | G27: En cours de contractualisation
B28: 24 | C28: 2025 | D28: CDCB | E28: L'audit de l'usine ORANA | F28: 3375000 | G28: En cours de contractualisation
B29: 25 | C29: 2025 | D29: ADEOTI | E29: Mission d’assistance pour le passage en comptabilité analytique d’exploitation et coaching du DAF de l’entreprise | F29: 40000000 | G29: En cours de contractualisation
B30: 26 | C30: 2025 | D30: SIRAT | E30: Construction de la cité financière phase 1 SIMAU BIIC CDCB-CAGC & INSTAD (22 mois) | F30: 945652000 | G30: En cours de contractualisation
B31: TOTAL | F31: =SUM(F5:F30) -> 6290249610

Sheet projet avec budget
B8: TABLEAU DE BORD FINANCIER AU ______________________________
B12: COMPTE DE GESTION
B14: N° | C14: Année | D14: ENTITE | E14: CA par projet | F14: Budget par projet | G14: Dépenses réelles | H14: %Cons. Budget | I14: Facturé | J14: Encaissé | K14: Reste dû sur facturation | L14: %Cons. Délai | M14: %Facturation | N14: %Encaissement
B15: 1 | C15: 2023 | D15: ADEOTI | E15: 1327731959 | F15: =+[5]BUDGET!$H$117 -> 693386525 | G15: 447991797 | H15: =+IFERROR(G15/(IF(F15=0,E15,F15)),0) -> 0.64609245 | I15: ='ETAT DES FACTURATIONS GLOBALES'!H46 -> 307591241 | J15: ='ETAT DES FACTURATIONS GLOBALES'!N46 -> 3.0759124e+08 | K15: =+I15-J15 -> 0.38 | L15: 0.79480164 | M15: 0.83333335 | N15: 0.848
B16: 2 | C16: 2023 | D16: BOTINZA | E16: 341900000 | F16: =+'[6]REVUE CE 27 JUIN'!$F$66 -> 182030000 | G16: 160000584 | H16: =+IFERROR(G16/(IF(F16=0,E16,F16)),0) -> 0.8789792 | I16: ='ETAT DES FACTURATIONS GLOBALES'!H70 -> 68374900 | J16: ='ETAT DES FACTURATIONS GLOBALES'!N70 -> 73981642 | K16: =+I16-J16 -> -5606741.8 | L16: 0.75352113 | M16: 0.85033176 | N16: 0.77917754
B17: 3 | C17: 2024 | D17: SIRAT | E17: 882000000 | F17: 445022000 | G17: 176382454 | H17: =+IFERROR(G17/(IF(F17=0,E17,F17)),0) -> 0.39634547 | I17: ='ETAT DES FACTURATIONS GLOBALES'!H89+'ETAT DES FACTURATIONS GLOBALES'!H103 -> 109800000 | J17: ='ETAT DES FACTURATIONS GLOBALES'!N89+'ETAT DES FACTURATIONS GLOBALES'!N103 -> 109800000 | K17: =+I17-J17 -> 0 | L17: 0.42112483 | M17: 0.57029762 | N17: 0.93893569

Sheet projets sans budget
B8: TABLEAU DE BORD FINANCIER AU ______________________________
B12: COMPTE DE GESTION
B14: N° | C14: Année | D14: ENTITE | E14: CA par projet | F14: Dépenses réelles | G14: Facturé | H14: Encaissé | I14: Reste dû sur facturation | J14: %Cons. Délai | K14: %Facturation | L14: %Encaissement
B15: 1 | C15: 2023 | D15: SETEC (SOUS TRAITANCE) | E15: 32250000 | F15: 0 | G15: ='ETAT DES FACTURATIONS GLOBALES'!H125 -> 0 | H15: ='ETAT DES FACTURATIONS GLOBALES'!N125 -> 0 | I15: =+G15-H15 -> 0 | J15: 0.7467167 | K15: 0.94418605 | L15: 0.79310345
B16: 2 | C16: 2024 | D16: MATIERE | E16: 431615463 | F16: 161547108 | G16: ='ETAT DES FACTURATIONS GLOBALES'!H110 -> 0 | H16: ='ETAT DES FACTURATIONS GLOBALES'!N110 -> 0 | I16: =+G16-H16 -> 0 | J16: 1 | K16: 1 | L16: 0.7
B17: 3 | C17: 2024 | D17: CONOCO | E17: 309056338 | F17: 296783717 | G17: ='ETAT DES FACTURATIONS GLOBALES'!H130 -> 0 | H17: ='ETAT DES FACTURATIONS GLOBALES'!N130 -> 0 | I17: =+G17-H17 -> 0 | J17: 1.1748634 | K17: 0.77005029 | L17: 0.45451577
B18: 4 | C18: 2024 | D18: NATIVE HOTEL | E18: 11200000 | F18: 25300 | G18: ='ETAT DES FACTURATIONS GLOBALES'!H139 -> 0 | H18: ='ETAT DES FACTURATIONS GLOBALES'!N139 -> 0 | I18: =+G18-H18 -> 0 | J18: 0.43867925 | K18: 0.7 | L18: 0.85714286
B19: 5 | C19: 2024 | D19: JULIUS BERGER | E19: 118800000 | F19: 6359398 | G19: ='ETAT DES FACTURATIONS GLOBALES'!H151 -> 0 | H19: ='ETAT DES FACTURATIONS GLOBALES'!N151 -> 0 | I19: =+G19-H19 -> 0 | J19: 0.084931507 | K19: 0.16666667 | L19: 0.25
B20: 6 | C20: 2024 | D20: DREAM BEACH | E20: =7500000*16 -> 120000000 | F20: 8443422 | G20: ='ETAT DES FACTURATIONS GLOBALES'!H170 -> 0 | H20: ='ETAT DES FACTURATIONS GLOBALES'!N170 -> 0 | I20: =+G20-H20 -> 0 | J20: 0.101473 | K20: 0.0625 | L20: 0
B21: 7 | C21: 2025 | D21: SIRAT (Prison civile) | E21: 199470000 | F21: 3244860 | G21: 0 | H21: 0 | I21: =+G21-H21 -> 0 | J21: 0.001618123 | K21: 0 | L21: 0
B22: 8 | C22: 2025 | D22: MATIERE (9 ponts) | E22: 384911850 | F22: 450625 | G22: 0 | H22: 0 | I22: =+G22-H22 -> 0 | J22: 0.002739726 | K22: 0 | L22: 0
B23: 9 | C23: 2025 | D23: HOTEL DE VILLE DE PORTO | E23: 372908000 | F23: 0 | G23: 0 | H23: 0 | I23: =+G23-H23 -> 0 | J23: 0 | K23: 0 | L23: 0
B24: 10 | C24: 2025 | D24: CONTRÔLE DES TRAVAUX CARREFOUR BELIER | E24: 74884000 | F24: 0 | G24: 0 | H24: 0 | I24: =+G24-H24 -> 0 | J24: 0 | K24: 0 | L24: 0
B25: 11 | C25: 2025 | D25: DET 22 STADES COMMUNAUX | E25: 323000000 | F25: 0 | G25: 0 | H25: 0 | I25: =+G25-H25 -> 0 | J25: 0 | K25: 0 | L25: 0
B26: 12 | C26: 2025 | D26: CDCB | E26: 3375000 | F26: 450000 | G26: 0 | H26: 0 | I26: =+G26-H26 -> 0 | J26: 0 | K26: 0 | L26: 0
B27: 13 | C27: 2025 | D27: ADEOTI | E27: 40000000 | F27: 3810000 | G27: 0 | H27: 0 | I27: =+G27-H27 -> 0 | J27: 0 | K27: 0 | L27: 0
B28: 14 | C28: 2025 | D28: SIRAT | E28: 945652000 | G28: 0 | H28: 0 | I28: =+G28-H28 -> 0 | J28: 0 | K28: 0 | L28: 0

Sheet DATA
A2: STATUT | C2: annee | E2: MOIS
A3: En cours | C3: 2022 | E3: Janvier
A4: Terminé | C4: 2023 | E4: Février
A5: En cours de contractualisation | C5: 2024 | E5: Mars
A6: Suspendu | C6: 2025 | E6: Avril
C7: 2026 | E7: Mai
E8: Juin
E9: Juillet
E10: Août
E11: Septembre
E12: Octobre
E13: Novembre
E14: Décembre

Sheet Mémo explicatif
A3: MEMO EXPLICATION DES INDICATEURS MIS EN PLACE
A5: Indicateurs de prise de décision ou d'alerte
A6: - %Cons. budget qui doit être comparé au %cons. délais.
A7: Si %Cons. du budget est supérieur au %Cons. Délais alors il faut vérifier les postes de dépassement et prendre une décision ou alors revoir le budget dudit marché
A8: Sinon le budget sera dépassé avant la fin des délais des travaux
A9: - Reste dû sur facturation permet de contrôler l'évolution des encaissement par rapport à la facturation et permettra de faciliter la prise de décision et de faire des relances
A10: - %Cons. délais permet de connaitre l'avancement des délais par rapport à l'OS de démarrage, un indicateur est mis dans le cas où les délais sont dépassés
A11: - %Facturation permettra de faire le rapprochement entre avec le %Cons. delais et se rassurer qu'il n'y ait pas un très grand écart
A12: - %Encaissement est calculé par rapport à la facturation et nous permettra de faire le rapprochement par rapport au Reste dû sur facturation
A13: - Etat du projet permet de savoir si le projet est en cours ou terminé ou suspendu

Sheet CARNET DE CMDE
B2: CARNET DE COMMANDE
H4: Mis à jour | I4: =TODAY() -> 45895
B6: PROJETS | C6: Date de début | D6: Date de fin | E6: Montant du Contrat | F6: Montant facturé | G6: Carnet de commande | H6: Montant encaissé | I6: Reste à encaisser
B7: GTP | C7: 44676 | D7: 44722
B8: OFMAS | C8: 44808 | D8: 44914
B9: SIMAU | C9: 44750 | D9: 44842
B10: SCB LAFARGE | C10: 44902 | D10: 45023
B11: EGBTP | C11: 44868 | D11: 44960
B12: CFAO | C12: 44904 | D12: 44994
B13: OFMAS | C13: 45178 | D13: 45239
B14: EGBTP (Suspendu)
B15: DREAM BEACH (Suspendu)
B16: ADEOTI | C16: 45096 | D16: 45827
B17: BOTINZA | C17: 45240 | D17: 45808
B18: CITES ADM LOT 1 | C18: 45352 | D18: 46081
B19: CITES ADM LOT 2 | C19: 45352 | D19: 46081
B20: MATIERE | C20: 45450 | D20: 45633
B21: SOUS TRAITANCE SETEC | C21: 45275 | D21: 45808
B22: CONOCO | C22: 45447 | D22: 45630
B23: NATIVE HOTEL | C23: 45596 | D23: 45808
B24: JULIUS BERGER | C24: 45607 | D24: 46337
B25: DREAM BEACH | C25: 45623 | D25: 46234
B26: PRISON CIVILE DE OUEDO | C26: 45677 | D26: 46295
B27: PMO MATIERE | C27: 45708 | D27: 46073
B28: ADEOTI/ ETUDES METHODES D'EXECUTION ET BILAN DES RESSOURCES
B29: CDCB
B30: ADEOTI/ Mission d’assistance pour le passage en comptabilité analytique d’exploitation et coaching du DAF de l’entreprise
B31: CONTRÔLE DES TRAVAUX CARREFOUR LE BELIER PTB | C31: 45689 | D31: 45900
B32: Mission de DET dans le cadre du projet de Construction de l'Hôtel de Ville de Porto Novo | C32: 45810 | D32: 46448
B33: Mission de DET dans le cadre du projet de construction de la Cité Financière phase 1
B34: MISSION DE DIRECTION D’EXECUTION DES TRAVAUX (DET) DANS LE CADRE DES TRAVAUX DE MAINTENANCE ET DE SAUVEGARDE DES OUVRAGES DE VINGT-DEUX (22) STADES DE TYPE OMNISPORT | C34: 45784 | D34: 46149
B35: Marché relatif au suivi d'un projet d'installation d'une usine de fabrication de matériaux de construction financé par la CDCB | C35: 45819
B36: Marché relatif au suivi d'un projet d'installation d'une usine de transformation d'agrume et d'ananas financé par la CDCB | C36: 45819
B37: Réalisation du contrôle et surveillance des travaux de 9 ponts unibridge et de 16 ouvrages hydraulique en zone péri-urbaine au Bénin (12 mois)
B38: Contrôle et surveillance des travaux d'installations de deux postes de péages mobiles à Kétou et Houègbo (4mois)
B39: Contrôle et surveillance des travaux de réparation des dégradations critiques relevées sur le réseau routier national dans les départements de l'Alibori ,,,,lot 1 (5 mois)
B40: Avenant au Contrat_Assistance au projet de construction Villas Natives à Ouidah (6 mois)
G46: =E46-F46 -> 0 | I46: =+F46-H46 -> 0
B47: TOTAL | E47: =SUM(E7:E46) -> 0 | F47: =SUM(F7:F46) -> 0 | G47: =SUM(G7:G46) -> 0 | H47: =SUM(H7:H46) -> 0 | I47: =SUM(I7:I46) -> 0

Sheet ETAT DES FACTURATIONS GLOBA (2)
E2: GERER LE SECRETARIAT GENERAL | Q2: GSG-F07-V0 22/07/2024
E3: ETAT GLOBAL DES FACTURATIONS ET PAIEMENTS
A4: Mise à jour du : | C4: =TODAY() -> 45895
B6: NUMERO AFFAIRE | C6: N° FACTURE | D6: MOIS | E6: DATE FACTURATION | F6: DATE DEPÔT FACTURE | G6: DATE DE REGLEMENT | H6: MONTANT BRUT HTVA | I6: TVA | J6: AIB | K6: MONTANT NET HT | L6: MONTANT NET TTC A PAYER | M6: MONTANT TTC ENCAISSE | N6: MONTANT BRUT HT ENCAISSE | O6: MONTANT NET HT ENCAISSE | P6: RESTANT DÛ TTC / FACTURE | Q6: RESTANT DÛ REEL NET TTC | R6: RESTANT DÛ BRUT HT | S6: RESTANT DÛ NET HT | T6: DELAI DE PAIEMENT
B7: AFFAIREAF002 OFMAS | C7: 013-22 | D7: Avance de démarrage | E7: 44879 | F7: 44879 | G7: 44761 | H7: 7500000 | I7: =H7*0.18 -> 1350000 | J7: =+-H7*3% -> -225000 | K7: =+H7+J7 -> 7275000 | L7: =H7+I7+J7 -> 8625000 | M7: 8625000 | N7: =+M7-I7-J7 -> 7500000 | O7: =+M7-I7 -> 7275000 | P7: =+L7-M7 -> 0 | Q7: =P7 -> 0 | R7: =H7-N7 -> 0 | S7: =Q7 -> 0 | T7: =+F7+30 -> 44909
C8: 008-22 | D8: 44805 | E8: 44806 | F8: 44806 | G8: 44895 | H8: 8750000 | I8: =H8*0.18 -> 1575000 | J8: =+-H8*3% -> -262500 | K8: =+H8+J8 -> 8487500 | L8: =H8+I8+J8 -> 10062500 | M8: 10062500 | N8: =+M8-I8-J8 -> 8750000 | O8: =+M8-I8 -> 8487500 | P8: =+L8-M8 -> 0 | Q8: =P8 -> 0 | R8: =H8-N8 -> 0 | S8: =Q8 -> 0 | T8: =+F8+30 -> 44836
C9: 014-22 | D9: 44866 | E9: 44879 | F9: 44879 | G9: 44908 | H9: 8750000 | I9: =H9*0.18 -> 1575000 | J9: =+-H9*3% -> -262500 | K9: =+H9+J9 -> 8487500 | L9: =H9+I9+J9 -> 10062500 | M9: 10062500 | N9: =+M9-I9-J9 -> 8750000 | O9: =+M9-I9 -> 8487500 | P9: =+L9-M9 -> 0 | Q9: =P9 -> 0 | R9: =H9-N9 -> 0 | S9: =Q9 -> 0 | T9: =+F9+30 -> 44909
C10: 005-23 | D10: 45017 | E10: 45036 | F10: 45036 | G10: 45072 | H10: 8500000 | I10: =H10*0.18 -> 1530000 | J10: =+-H10*3% -> -255000 | K10: =+H10+J10 -> 8245000 | L10: =H10+I10+J10 -> 9775000 | M10: 9775000 | N10: =+M10-I10-J10 -> 8500000 | O10: =+M10-I10 -> 8245000 | P10: =+L10-M10 -> 0 | Q10: =P10 -> 0 | R10: =H10-N10 -> 0 | S10: =Q10 -> 0 | T10: =+F10+30 -> 45066
C11: Sous total OFMAS | H11: =+SUM(H7:H10) -> 33500000 | I11: =+SUM(I7:I10) -> 6030000 | J11: =+SUM(J7:J10) -> -1005000 | K11: =+SUM(K7:K10) -> 32495000 | L11: =+SUM(L7:L10) -> 38525000 | M11: =+SUM(M7:M10) -> 38525000 | N11: =+SUM(N7:N10) -> 33500000 | O11: =+SUM(O7:O10) -> 32495000 | ... S11: =+SUM(S7:S10) -> 0
B12: AFFAIREAF003 EGBTP 1 | C12: 015-22 | D12: Avance de démarrage | E12: 44888 | F12: 44946 | G12: 44888 | H12: 12000000 | I12: 0 | J12: 0 | K12: =+H12+J12 -> 12000000 | L12: =H12+I12+J12 -> 12000000 | M12: 12000000 | N12: =+M12-I12-J12 -> 12000000 | O12: =+M12-I12 -> 12000000 | P12: =+L12-M12 -> 0 | Q12: =P12 -> 0 | R12: =H12-N12 -> 0 | S12: =Q12 -> 0 | T12: =+F12+30 -> 44976
C13: 002/23 | D13: 44986 | E13: 44993 | F13: 44993 | G13: 45015 | H13: 28000000 | I13: 0 | J13: 0 | K13: =+H13+J13 -> 28000000 | L13: =H13+I13+J13 -> 28000000 | M13: 28000000 | N13: =+M13-I13-J13 -> 28000000 | O13: =+M13-I13 -> 28000000 | P13: =+L13-M13 -> 0 | Q13: =P13 -> 0 | R13: =H13-N13 -> 0 | S13: =Q13 -> 0 | T13: =+F13+30 -> 45023
C14: Sous total EGBTP | H14: =+SUM(H12:H13) -> 40000000 | I14: =+SUM(I12:I13) -> 0 | J14: =+SUM(J12:J13) -> 0 | K14: =+SUM(K12:K13) -> 40000000 | L14: =+SUM(L12:L13) -> 40000000 | M14: =+SUM(M12:M13) -> 40000000 | N14: =+SUM(N12:N13) -> 40000000 | O14: =+SUM(O12:O13) -> 40000000 | ... S14: =+SUM(S12:S13) -> 0
B15: AFFAIREAF004 CFAO | C15: 016-22 | D15: Avance de démarrage | E15: 44900 | F15: 44901 | G15: 44910 | H15: 6210000 | I15: =H15*0.18 -> 1117800 | J15: =+-H15*3% -> -186300 | K15: =+H15+J15 -> 6023700 | L15: =H15+I15+J15 -> 7141500 | M15: 7141500 | N15: =+M15-I15-J15 -> 6210000 | O15: =+M15-I15 -> 6023700 | P15: =+L15-M15 -> 0 | Q15: =P15 -> 0 | R15: =H15-N15 -> 0 | S15: =Q15 -> 0 | T15: =+F15+30 -> 44931
C16: 004-23 | D16: 44986 | E16: 45021 | F16: 45021 | G16: 45036 | H16: 7245000 | I16: =H16*0.18 -> 1304100 | J16: =+-H16*3% -> -217350 | K16: =+H16+J16 -> 7027650 | L16: =H16+I16+J16 -> 8331750 | M16: 8331750 | N16: =+M16-I16-J16 -> 7245000 | O16: =+M16-I16 -> 7027650 | P16: =+L16-M16 -> 0 | Q16: =P16 -> 0 | R16: =H16-N16 -> 0 | S16: =Q16 -> 0 | T16: =+F16+30 -> 45051
C17: 006-23 | D17: 45017 | E17: 45036 | F17: 45036 | G17: 45054 | H17: 7245000 | I17: =H17*0.18 -> 1304100 | J17: =+-H17*3% -> -217350 | K17: =+H17+J17 -> 7027650 | L17: =H17+I17+J17 -> 8331750 | M17: 8331750 | N17: =+M17-I17-J17 -> 7245000 | O17: =+M17-I17 -> 7027650 | P17: =+L17-M17 -> 0 | Q17: =P17 -> 0 | R17: =H17-N17 -> 0 | S17: =Q17 -> 0 | T17: =+F17+30 -> 45066
C18: Sous total CFAO | H18: =+SUM(H15:H17) -> 20700000 | I18: =+SUM(I15:I17) -> 3726000 | J18: =+SUM(J15:J17) -> -621000 | K18: =+SUM(K15:K17) -> 20079000 | L18: =+SUM(L15:L17) -> 23805000 | M18: =+SUM(M15:M17) -> 23805000 | N18: =+SUM(N15:N17) -> 20700000 | O18: =+SUM(O15:O17) -> 20079000 | P18: =+SUM(P15:P17) -> 0 | Q18: =P18 -> 0 | R18: =H18-N18 -> 0 | S18: =Q18 -> 0
B19: AFFAIREAF005 SCB-LAFARGE | C19: 017-22 | D19: 44896 | E19: 44914 | F19: 44917 | G19: 44946 | H19: 3300000 | I19: =H19*0.18 -> 594000 | J19: =+-H19*3% -> -99000 | K19: =+H19+J19 -> 3201000 | L19: =H19+I19+J19 -> 3795000 | M19: 3795000 | N19: =+M19-I19-J19 -> 3300000 | O19: =+M19-I19 -> 3201000 | P19: =+L19-M19 -> 0 | Q19: =P19 -> 0 | R19: =H19-N19 -> 0 | S19: =Q19 -> 0 | T19: =+F19+30 -> 44947
C20: Sous total SCB-LAFARGE | H20: =+SUM(H19:H19) -> 3300000 | I20: =+SUM(I19:I19) -> 594000 | J20: =+SUM(J19:J19) -> -99000 | K20: =+SUM(K19:K19) -> 3201000 | L20: =+SUM(L19:L19) -> 3795000 | M20: =+SUM(M19:M19) -> 3795000 | N20: =+SUM(N19:N19) -> 3300000 | O20: =+SUM(O19:O19) -> 3201000 | ... S20: =+SUM(S19:S19) -> 0
B21: AFFAIREAF013 ADEOTI | C21: 009-23 | D21: Avance de démarrage | E21: 45091 | F21: 45097 | G21: 45113 | H21: 265546395 | I21: 47798351 | K21: =+H21+J21 -> 265546395 | L21: 3.1334475e+08 | M21: 313344746 | N21: =+M21-I21-J21 -> 2.6554639e+08 | O21: =+M21-I21 -> 2.6554639e+08 | P21: =+L21-M21 -> 0.10000002 | Q21: =P21 -> 0.10000002 | R21: =H21-N21 -> 0.099999994 | S21: =+L21-M21 -> 0.10000002 | T21: =+F21+30 -> 45127
C22: 019-23 | D22: 45108 | E22: 45210 | F22: 45210 | G22: 45212 | H22: 42044846 | I22: =H22*0.18 -> 7568072.3 | J22: -1659665 | K22: =+H22+J22 -> 40385181 | L22: =H22+I22+J22 -> 47953253 | M22: 47953253 | N22: =+M22-I22-J22 -> 42044846 | O22: =+M22-I22 -> 40385181 | P22: =+L22-M22 -> 0.28 | Q22: =P22 -> 0.28 | R22: =H22-N22 -> 0.28 | S22: =Q22 -> 0.28 | T22: =+F22+30 -> 45240
C23: 020-23 | D23: 45139 | E23: 45210 | F23: 45210 | G23: 45212 | H23: 42044846 | I23: =H23*0.18 -> 7568072.3 | J23: -1659665 | K23: =+H23+J23 -> 40385181 | L23: =H23+I23+J23 -> 47953253 | M23: 47953253 | N23: =+M23-I23-J23 -> 42044846 | O23: =+M23-I23 -> 40385181 | P23: =+L23-M23 -> 0.28 | Q23: =P23 -> 0.28 | R23: =H23-N23 -> 0.28 | S23: =Q23 -> 0.28 | T23: =+F23+30 -> 45240
C24: 021-23 | D24: 45170 | E24: 45210 | F24: 45210 | G24: 45212 | H24: 42044846 | I24: =H24*0.18 -> 7568072.3 | J24: -1659665 | K24: =+H24+J24 -> 40385181 | L24: =H24+I24+J24 -> 47953253 | M24: 47953253 | N24: =+M24-I24-J24 -> 42044846 | O24: =+M24-I24 -> 40385181 | P24: =+L24-M24 -> 0.28 | Q24: =P24 -> 0.28 | R24: =H24-N24 -> 0.28 | S24: =Q24 -> 0.28 | T24: =+F24+30 -> 45240
C25: 023-23 | D25: 45200 | E25: 45218 | F25: 45230 | G25: 45260 | H25: 42044846 | I25: =H25*0.18 -> 7568072.3 | J25: -1659665 | K25: =+H25+J25 -> 40385181 | L25: =H25+I25+J25 -> 47953253 | M25: 47953253 | N25: =+M25-I25-J25 -> 42044846 | O25: =+M25-I25 -> 40385181 | P25: =+L25-M25 -> 0.28 | Q25: =P25 -> 0.28 | R25: =H25-N25 -> 0.28 | S25: =Q25 -> 0.28 | T25: =+F25+30 -> 45260
C26: 024-23 | D26: 45231 | E26: 45253 | F26: 45260 | G26: 45302 | H26: 42044846 | I26: =H26*0.18 -> 7568072.3 | J26: -1659665 | K26: =+H26+J26 -> 40385181 | L26: =H26+I26+J26 -> 47953253 | M26: 47953253 | N26: =+M26-I26-J26 -> 42044846 | O26: =+M26-I26 -> 40385181 | P26: =+L26-M26 -> 0.28 | Q26: =P26 -> 0.28 | R26: =H26-N26 -> 0.28 | S26: =Q26 -> 0.28 | T26: =+F26+30 -> 45290
C27: 026-23 | D27: 45261 | E27: 45275 | F27: 45278 | G27: 45302 | H27: 42044846 | I27: =H27*0.18 -> 7568072.3 | J27: -1659665 | K27: =+H27+J27 -> 40385181 | L27: =H27+I27+J27 -> 47953253 | M27: 47953253 | N27: =+M27-I27-J27 -> 42044846 | O27: =+M27-I27 -> 40385181 | P27: =+L27-M27 -> 0.28 | Q27: =P27 -> 0.28 | R27: =H27-N27 -> 0.28 | S27: =Q27 -> 0.28 | T27: =+F27+30 -> 45308
C28: 001-24 | D28: 45292 | E28: 45314 | F28: 45316 | G28: 45355 | H28: 42044846 | I28: =H28*0.18 -> 7568072.3 | J28: -1659665 | K28: =+H28+J28 -> 40385181 | L28: =H28+I28+J28 -> 47953253 | M28: 47953253 | N28: =+M28-I28-J28 -> 42044846 | O28: =+M28-I28 -> 40385181 | P28: =+L28-M28 -> 0.28 | Q28: =P28 -> 0.28 | R28: =H28-N28 -> 0.28 | S28: =Q28 -> 0.28 | T28: =+F28+30 -> 45346
C29: 003-24 | D29: 45323 | E29: 45348 | F29: 45351 | G29: 45387 | H29: 42044846 | I29: =H29*0.18 -> 7568072.3 | J29: -1659665 | K29: =+H29+J29 -> 40385181 | L29: =H29+I29+J29 -> 47953253 | M29: 47953253 | N29: =+M29-I29-J29 -> 42044846 | O29: =+M29-I29 -> 40385181 | P29: =+L29-M29 -> 0.28 | Q29: =P29 -> 0.28 | R29: =H29-N29 -> 0.28 | S29: =Q29 -> 0.28 | T29: =+F29+30 -> 45381
C30: 004-24 | D30: 45352 | E30: 45376 | F30: 45378 | G30: 45439 | H30: 42044846 | I30: =H30*0.18 -> 7568072.3 | J30: -1659665 | K30: =+H30+J30 -> 40385181 | L30: =H30+I30+J30 -> 47953253 | M30: 47953253 | N30: =+M30-I30-J30 -> 42044846 | O30: =+M30-I30 -> 40385181 | P30: =+L30-M30 -> 0.28 | Q30: =P30 -> 0.28 | R30: =H30-N30 -> 0.28 | S30: =Q30 -> 0.28 | T30: =+F30+30 -> 45408
C31: 005-24 | D31: 45383 | E31: 45406 | F31: 45411 | G31: 45457 | H31: 42044846 | I31: =H31*0.18 -> 7568072.3 | J31: -1659665 | K31: =+H31+J31 -> 40385181 | L31: =H31+I31+J31 -> 47953253 | M31: 47953253 | N31: =+M31-I31-J31 -> 42044846 | O31: =+M31-I31 -> 40385181 | P31: =+L31-M31 -> 0.28 | Q31: =P31 -> 0.28 | R31: =H31-N31 -> 0.28 | S31: =Q31 -> 0.28 | T31: =+F31+30 -> 45441
C32: 009-24 | D32: 45413 | E32: 45436 | F32: 45440 | G32: 45544 | H32: 42044846 | I32: =H32*0.18 -> 7568072.3 | J32: -1659665 | K32: =+H32+J32 -> 40385181 | L32: =H32+I32+J32 -> 47953253 | M32: 47953253 | N32: =+M32-I32-J32 -> 42044846 | O32: =+M32-I32 -> 40385181 | P32: =+L32-M32 -> 0.28 | Q32: =P32 -> 0.28 | R32: =H32-N32 -> 0.28 | S32: =+L32-M32 -> 0.28 | T32: =+F32+30 -> 45470
C33: 010-24 | D33: 45444 | E33: 45456 | F33: 45470 | G33: 45544 | H33: 42044846 | I33: =H33*0.18 -> 7568072.3 | J33: -1659665 | K33: =+H33+J33 -> 40385181 | L33: =H33+I33+J33 -> 47953253 | M33: 47953253 | N33: =+M33-I33-J33 -> 42044846 | O33: =+M33-I33 -> 40385181 | P33: =+L33-M33 -> 0.28 | Q33: =P33 -> 0.28 | R33: =H33-N33 -> 0.28 | S33: =+L33-M33 -> 0.28 | T33: =+F33+30 -> 45500
C34: 028/24 | D34: 45474 | E34: 45497 | F34: 45498 | G34: 45583 | H34: 42044846 | I34: =H34*0.18 -> 7568072.3 | J34: -1659665 | K34: =+H34+J34 -> 40385181 | L34: =H34+I34+J34 -> 47953253 | M34: 47953253 | N34: =+M34-I34-J34 -> 42044846 | O34: =+M34-I34 -> 40385181 | P34: =+L34-M34 -> 0.28 | Q34: =P34 -> 0.28 | R34: =H34-N34 -> 0.28 | S34: =+L34-M34 -> 0.28 | T34: =+F34+30 -> 45528
C35: 033/24 | D35: 45505 | E35: 45530 | F35: 45531 | G35: 45583 | H35: 42044846 | I35: =H35*0.18 -> 7568072.3 | J35: -1659665 | K35: =+H35+J35 -> 40385181 | L35: =H35+I35+J35 -> 47953253 | M35: 47953253 | N35: =+M35-I35-J35 -> 42044846 | O35: =+M35-I35 -> 40385181 | P35: =+L35-M35 -> 0.28 | Q35: =P35 -> 0.28 | R35: =H35-N35 -> 0.28 | S35: =+L35-M35 -> 0.28 | T35: =+F35+30 -> 45561
C36: 037/24 | D36: 45536 | E36: 45560 | F36: 45567 | G36: 45656 | H36: 42044846 | I36: =H36*0.18 -> 7568072.3 | J36: -1659665 | K36: =+H36+J36 -> 40385181 | L36: =H36+I36+J36 -> 47953253 | M36: 47953253 | N36: =+M36-I36-J36 -> 42044846 | O36: =+M36-I36 -> 40385181 | P36: =+L36-M36 -> 0.28 | Q36: =P36 -> 0.28 | R36: =H36-N36 -> 0.28 | S36: =+L36-M36 -> 0.28 | T36: =+F36+30 -> 45597
C37: 046/24 | D37: 45566 | E37: 45590 | F37: 45594 | G37: 45656 | H37: 42044846 | I37: =H37*0.18 -> 7568072.3 | J37: -1659665 | K37: =+H37+J37 -> 40385181 | L37: =H37+I37+J37 -> 47953253 | M37: 47953253 | N37: =+M37-I37-J37 -> 42044846 | O37: =+M37-I37 -> 40385181 | P37: =+L37-M37 -> 0.28 | Q37: =P37 -> 0.28 | R37: =H37-N37 -> 0.28 | S37: =+L37-M37 -> 0.28 | T37: =+F37+30 -> 45624
C38: 053/24 | D38: 45597 | E38: 45621 | F38: 45622 | G38: 45757 | H38: 42044846 | I38: =H38*0.18 -> 7568072.3 | J38: -1659665 | K38: =+H38+J38 -> 40385181 | L38: =H38+I38+J38 -> 47953253 | M38: 47953253 | N38: =+M38-I38-J38 -> 42044846 | O38: =+M38-I38 -> 40385181 | P38: =+L38-M38 -> 0.28 | Q38: =P38 -> 0.28 | R38: =H38-N38 -> 0.28 | S38: =+L38-M38 -> 0.28 | T38: =+F38+30 -> 45652
C39: 058/24 | D39: 45627 | E39: 45650 | F39: 45652 | G39: 45757 | H39: 42044846 | I39: =H39*0.18 -> 7568072.3 | J39: -1659665 | K39: =+H39+J39 -> 40385181 | L39: =H39+I39+J39 -> 47953253 | M39: 47953253 | N39: =+M39-I39-J39 -> 42044846 | O39: =+M39-I39 -> 40385181 | P39: =+L39-M39 -> 0.28 | Q39: =P39 -> 0.28 | R39: =H39-N39 -> 0.28 | S39: =+L39-M39 -> 0.28 | T39: =+F39+30 -> 45682
C40: 004/25 | D40: 45658 | E40: 45681 | F40: 45686 | G40: 45764 | H40: 42044846 | I40: =H40*0.18 -> 7568072.3 | J40: -1659665 | K40: =+H40+J40 -> 40385181 | L40: =H40+I40+J40 -> 47953253 | M40: 47953253 | N40: =+M40-I40-J40 -> 42044846 | O40: =+M40-I40 -> 40385181 | P40: =+L40-M40 -> 0.28 | Q40: =P40 -> 0.28 | R40: =H40-N40 -> 0.28 | S40: =+L40-M40 -> 0.28 | T40: =+F40+30 -> 45716
C41: 016/25 | D41: 45689 | E41: 45709 | F41: 45712 | G41: 45786 | H41: 42044846 | I41: =H41*0.18 -> 7568072.3 | J41: -1659665 | K41: =+H41+J41 -> 40385181 | L41: =H41+I41+J41 -> 47953253 | M41: 47953253 | N41: =+M41-I41-J41 -> 42044846 | O41: =+M41-I41 -> 40385181 | P41: =+L41-M41 -> 0.28 | Q41: =L41-M41 -> 0.28 | R41: =H41-N41 -> 0.28 | S41: =K41-O41 -> 0.28 | T41: =+F41+30 -> 45742
C42: 021/25 | D42: 45717 | E42: 45736 | F42: 45741 | H42: 55322165 | I42: =H42*0.18 -> 9957989.7 | J42: -1659665 | K42: =+H42+J42 -> 53662500 | L42: =H42+I42+J42 -> 63620490 | P42: =H42+I42 -> 65280155 | Q42: =L42-M42 -> 63620490 | R42: =H42-N42 -> 55322165 | S42: =K42-O42 -> 53662500 | T42: =+F42+30 -> 45771
...

Sheet ETAT DES FACTURATIONS GLOBALES
E2: GERER LE SECRETARIAT GENERAL | Q2: GSG-F07-V0 22/07/2024
E3: ETAT GLOBAL DES FACTURATIONS ET PAIEMENTS
A4: Mise à jour du : | C4: =TODAY() -> 45895
B6: NUMERO AFFAIRE | C6: N° FACTURE | D6: MOIS | E6: DATE FACTURATION | F6: DATE DEPÔT FACTURE | G6: DATE DE REGLEMENT | H6: MONTANT BRUT HTVA | I6: TVA | J6: AIB | K6: MONTANT NET HT | L6: MONTANT NET TTC A PAYER | M6: MONTANT TTC ENCAISSE | N6: MONTANT BRUT HT ENCAISSE | O6: MONTANT NET HT ENCAISSE | P6: RESTANT DÛ TTC / FACTURE | Q6: RESTANT DÛ REEL NET TTC | R6: RESTANT DÛ BRUT HT | S6: RESTANT DÛ NET HT | T6: DELAI DE PAIEMENT
B7: AFFAIREAF002 OFMAS | C7: 013-22 | D7: Avance de démarrage | E7: 44879 | F7: 44879 | G7: 44761 | H7: 7500000 | I7: =H7*0.18 -> 1350000 | J7: =+-H7*3% -> -225000 | K7: =+H7+J7 -> 7275000 | L7: =H7+I7+J7 -> 8625000 | M7: 8625000 | N7: =+M7-I7-J7 -> 7500000 | O7: =+M7-I7 -> 7275000 | P7: =+L7-M7 -> 0 | Q7: =P7 -> 0 | R7: =H7-N7 -> 0 | S7: =Q7 -> 0 | T7: =+F7+30 -> 44909
C8: 008-22 | D8: 44805 | E8: 44806 | F8: 44806 | G8: 44895 | H8: 8750000 | I8: =H8*0.18 -> 1575000 | J8: =+-H8*3% -> -262500 | K8: =+H8+J8 -> 8487500 | L8: =H8+I8+J8 -> 10062500 | M8: 10062500 | N8: =+M8-I8-J8 -> 8750000 | O8: =+M8-I8 -> 8487500 | P8: =+L8-M8 -> 0 | Q8: =P8 -> 0 | R8: =H8-N8 -> 0 | S8: =Q8 -> 0 | T8: =+F8+30 -> 44836
C9: 014-22 | D9: 44866 | E9: 44879 | F9: 44879 | G9: 44908 | H9: 8750000 | I9: =H9*0.18 -> 1575000 | J9: =+-H9*3% -> -262500 | K9: =+H9+J9 -> 8487500 | L9: =H9+I9+J9 -> 10062500 | M9: 10062500 | N9: =+M9-I9-J9 -> 8750000 | O9: =+M9-I9 -> 8487500 | P9: =+L9-M9 -> 0 | Q9: =P9 -> 0 | R9: =H9-N9 -> 0 | S9: =Q9 -> 0 | T9: =+F9+30 -> 44909
C10: 005-23 | D10: 45017 | E10: 45036 | F10: 45036 | G10: 45072 | H10: 8500000 | I10: =H10*0.18 -> 1530000 | J10: =+-H10*3% -> -255000 | K10: =+H10+J10 -> 8245000 | L10: =H10+I10+J10 -> 9775000 | M10: 9775000 | N10: =+M10-I10-J10 -> 8500000 | O10: =+M10-I10 -> 8245000 | P10: =+L10-M10 -> 0 | Q10: =P10 -> 0 | R10: =H10-N10 -> 0 | S10: =Q10 -> 0 | T10: =+F10+30 -> 45066
C11: Sous total OFMAS | H11: =+SUM(H7:H10) -> 33500000 | I11: =+SUM(I7:I10) -> 6030000 | J11: =+SUM(J7:J10) -> -1005000 | K11: =+SUM(K7:K10) -> 32495000 | L11: =+SUM(L7:L10) -> 38525000 | M11: =+SUM(M7:M10) -> 38525000 | N11: =+SUM(N7:N10) -> 33500000 | O11: =+SUM(O7:O10) -> 32495000 | ... S11: =+SUM(S7:S10) -> 0
B12: AFFAIREAF003 EGBTP 1 | C12: 015-22 | D12: Avance de démarrage | E12: 44888 | F12: 44946 | G12: 44888 | H12: 12000000 | I12: 0 | J12: 0 | K12: =+H12+J12 -> 12000000 | L12: =H12+I12+J12 -> 12000000 | M12: 12000000 | N12: =+M12-I12-J12 -> 12000000 | O12: =+M12-I12 -> 12000000 | P12: =+L12-M12 -> 0 | Q12: =P12 -> 0 | R12: =H12-N12 -> 0 | S12: =Q12 -> 0 | T12: =+F12+30 -> 44976
C13: 002/23 | D13: 44986 | E13: 44993 | F13: 44993 | G13: 45015 | H13: 28000000 | I13: 0 | J13: 0 | K13: =+H13+J13 -> 28000000 | L13: =H13+I13+J13 -> 28000000 | M13: 28000000 | N13: =+M13-I13-J13 -> 28000000 | O13: =+M13-I13 -> 28000000 | P13: =+L13-M13 -> 0 | Q13: =P13 -> 0 | R13: =H13-N13 -> 0 | S13: =Q13 -> 0 | T13: =+F13+30 -> 45023
C14: Sous total EGBTP | H14: =+SUM(H12:H13) -> 40000000 | I14: =+SUM(I12:I13) -> 0 | J14: =+SUM(J12:J13) -> 0 | K14: =+SUM(K12:K13) -> 40000000 | L14: =+SUM(L12:L13) -> 40000000 | M14: =+SUM(M12:M13) -> 40000000 | N14: =+SUM(N12:N13) -> 40000000 | O14: =+SUM(O12:O13) -> 40000000 | ... S14: =+SUM(S12:S13) -> 0
B15: AFFAIREAF004 CFAO | C15: 016-22 | D15: Avance de démarrage | E15: 44900 | F15: 44901 | G15: 44910 | H15: 6210000 | I15: =H15*0.18 -> 1117800 | J15: =+-H15*3% -> -186300 | K15: =+H15+J15 -> 6023700 | L15: =H15+I15+J15 -> 7141500 | M15: 7141500 | N15: =+M15-I15-J15 -> 6210000 | O15: =+M15-I15 -> 6023700 | P15: =+L15-M15 -> 0 | Q15: =P15 -> 0 | R15: =H15-N15 -> 0 | S15: =Q15 -> 0 | T15: =+F15+30 -> 44931
C16: 004-23 | D16: 44986 | E16: 45021 | F16: 45021 | G16: 45036 | H16: 7245000 | I16: =H16*0.18 -> 1304100 | J16: =+-H16*3% -> -217350 | K16: =+H16+J16 -> 7027650 | L16: =H16+I16+J16 -> 8331750 | M16: 8331750 | N16: =+M16-I16-J16 -> 7245000 | O16: =+M16-I16 -> 7027650 | P16: =+L16-M16 -> 0 | Q16: =P16 -> 0 | R16: =H16-N16 -> 0 | S16: =Q16 -> 0 | T16: =+F16+30 -> 45051
C17: 006-23 | D17: 45017 | E17: 45036 | F17: 45036 | G17: 45054 | H17: 7245000 | I17: =H17*0.18 -> 1304100 | J17: =+-H17*3% -> -217350 | K17: =+H17+J17 -> 7027650 | L17: =H17+I17+J17 -> 8331750 | M17: 8331750 | N17: =+M17-I17-J17 -> 7245000 | O17: =+M17-I17 -> 7027650 | P17: =+L17-M17 -> 0 | Q17: =P17 -> 0 | R17: =H17-N17 -> 0 | S17: =Q17 -> 0 | T17: =+F17+30 -> 45066
C18: Sous total CFAO | H18: =+SUM(H15:H17) -> 20700000 | I18: =+SUM(I15:I17) -> 3726000 | J18: =+SUM(J15:J17) -> -621000 | K18: =+SUM(K15:K17) -> 20079000 | L18: =+SUM(L15:L17) -> 23805000 | M18: =+SUM(M15:M17) -> 23805000 | N18: =+SUM(N15:N17) -> 20700000 | O18: =+SUM(O15:O17) -> 20079000 | P18: =+SUM(P15:P17) -> 0 | Q18: =P18 -> 0 | R18: =H18-N18 -> 0 | S18: =Q18 -> 0
B19: AFFAIREAF005 SCB-LAFARGE | C19: 017-22 | D19: 44896 | E19: 44914 | F19: 44917 | G19: 44946 | H19: 3300000 | I19: =H19*0.18 -> 594000 | J19: =+-H19*3% -> -99000 | K19: =+H19+J19 -> 3201000 | L19: =H19+I19+J19 -> 3795000 | M19: 3795000 | N19: =+M19-I19-J19 -> 3300000 | O19: =+M19-I19 -> 3201000 | P19: =+L19-M19 -> 0 | Q19: =P19 -> 0 | R19: =H19-N19 -> 0 | S19: =Q19 -> 0 | T19: =+F19+30 -> 44947
C20: Sous total SCB-LAFARGE | H20: =+SUM(H19:H19) -> 3300000 | I20: =+SUM(I19:I19) -> 594000 | J20: =+SUM(J19:J19) -> -99000 | K20: =+SUM(K19:K19) -> 3201000 | L20: =+SUM(L19:L19) -> 3795000 | M20: =+SUM(M19:M19) -> 3795000 | N20: =+SUM(N19:N19) -> 3300000 | O20: =+SUM(O19:O19) -> 3201000 | ... S20: =+SUM(S19:S19) -> 0
B21: AFFAIREAF013 ADEOTI | C21: 009-23 | D21: Avance de démarrage | E21: 45091 | F21: 45097 | G21: 45113 | H21: 265546395 | I21: 47798351 | K21: =+H21+J21 -> 265546395 | L21: 3.1334475e+08 | M21: 313344746 | N21: =+M21-I21-J21 -> 2.6554639e+08 | O21: =+M21-I21 -> 2.6554639e+08 | P21: =+L21-M21 -> 0.10000002 | Q21: =P21 -> 0.10000002 | R21: =H21-N21 -> 0.099999994 | S21: =+L21-M21 -> 0.10000002 | T21: =+F21+30 -> 45127
C22: 019-23 | D22: 45108 | E22: 45210 | F22: 45210 | G22: 45212 | H22: 42044846 | I22: =H22*0.18 -> 7568072.3 | J22: -1659665 | K22: =+H22+J22 -> 40385181 | L22: =H22+I22+J22 -> 47953253 | M22: 47953253 | N22: =+M22-I22-J22 -> 42044846 | O22: =+M22-I22 -> 40385181 | P22: =+L22-M22 -> 0.28 | Q22: =P22 -> 0.28 | R22: =H22-N22 -> 0.28 | S22: =Q22 -> 0.28 | T22: =+F22+30 -> 45240
C46: Sous total ADEOTI | H46: =+SUM(H21:H45) -> 307591241 | I46: =+SUM(I21:I45) -> 55366423 | J46: =+SUM(J21:J45) -> -1659665 | K46: =+SUM(K21:K45) -> 305931576 | L46: =+SUM(L21:L45) -> 3.61298e+08 | M46: =+SUM(M21:M45) -> 361297999 | N46: =+SUM(N21:N45) -> 3.0759124e+08 | O46: =+SUM(O21:O45) -> 3.0593158e+08 | ... S46: =+SUM(S21:S45) -> 0.38000003
B47: AFFAIREAF014 BOTINZA | C47: 006-24 | D47: Avance de démarrage | E47: 45414 | F47: 45414 | G47: 45443 | H47: 68374900 | I47: =+H47*0.18*60% -> 7384489.2 | J47: =-1%*H47 -> -683749 | K47: =+H47+J47 -> 67691151 | L47: =H47+I47+J47 -> 75075640 | M47: 80682382 | N47: =+M47-I47-J47 -> 73981642 | O47: =+M47-I47 -> 73297893 | P47: =+L47-M47 -> -5606741.8 | Q47: =P47 -> -5606741.8 | R47: =H47-N47 -> -5606741.8 | S47: =+Q47 -> -5606741.8 | T47: =+F47+30 -> 45444
R69: =H69-N69 -> 0
C70: Sous total BOTINZA | H70: =SUM(H47:H69) -> 68374900 | I70: =SUM(I47:I69) -> 7384489.2 | J70: =SUM(J47:J69) -> -683749 | K70: =SUM(K47:K69) -> 67691151 | L70: =SUM(L47:L69) -> 75075640 | M70: =SUM(M47:M69) -> 80682382 | N70: =SUM(N47:N69) -> 73981642 | O70: =SUM(O47:O69) -> 73297893 | ... S70: =SUM(S47:S69) -> -5606741.8
B71: AFFAIREAF015 CITES ADM LOT 1 | C71: 007-24 | D71: Avance de démarrage | E71: 45422 | F71: 45439 | G71: 45476 | H71: 109800000 | I71: =+H71*0.18*60% -> 11858400 | J71: =-H71*1% -> -1098000 | K71: =+H71+J71 -> 108702000 | L71: =H71+I71+J71 -> 120560400 | M71: 120560400 | N71: =+M71-I71-J71 -> 109800000 | O71: =+M71-I71 -> 108702000 | P71: =+L71-M71 -> 0 | Q71: =P71 -> 0 | R71: =H71-N71 -> 0 | S71: =Q71 -> 0 | T71: =+F71+30 -> 45469
C89: Sous total CITES ADM lot 1 | H89: =SUM(H71:H88) -> 109800000 | I89: =SUM(I71:I88) -> 11858400 | J89: =SUM(J71:J88) -> -1098000 | K89: =SUM(K71:K88) -> 108702000 | L89: =SUM(L71:L88) -> 120560400 | M89: =SUM(M71:M88) -> 120560400 | N89: =SUM(N71:N88) -> 109800000 | O89: =SUM(O71:O88) -> 108702000 | ... S89: =SUM(S71:S88) -> 0
B90: AFFAIREAF015 CITES ADM LOT 2
C103: Sous total CITES ADM lot 2 | H103: =SUM(H90:H102) -> 0 | I103: =SUM(I90:I102) -> 0 | J103: =SUM(J90:J102) -> 0 | K103: =SUM(K90:K102) -> 0 | L103: =SUM(L90:L102) -> 0 | M103: =SUM(M90:M102) -> 0 | N103: =SUM(N90:N102) -> 0 | O103: =SUM(O90:O102) -> 0 | ... T103: =SUM(T90:T102) -> 0
B104: AFFAIREAF016 MATIERE BENIN
C110: Sous total MATIERE | H110: =SUM(H104:H109) -> 0 | I110: =SUM(I104:I109) -> 0 | J110: =SUM(J104:J109) -> 0 | K110: =SUM(K104:K109) -> 0 | L110: =SUM(L104:L109) -> 0 | M110: =SUM(M104:M109) -> 0 | N110: =SUM(N104:N109) -> 0 | O110: =SUM(O104:O109) -> 0 | ... S110: =SUM(S104:S109) -> 0
B111: AFFAIREAF017 AGIRE | C111: 026-24 | D111: 45474 | E111: 45482 | F111: 45482 | G111: 45488 | H111: 12886598 | I111: =H111*0.18 -> 2319587.6 | J111: =-H111*3% -> -386597.94 | K111: =+H111+J111 -> 12500000 | L111: =H111+I111+J111 -> 14819588 | M111: 14819588 | N111: =+M111-I111-J111 -> 12886598 | O111: =+M111-I111 -> 12500000 | P111: =+L111-M111 -> -0.3 | Q111: =P111 -> -0.3 | R111: =H111-N111 -> -0.3 | S111: =Q111 -> -0.3 | T111: =+F111+30 -> 45512
C112: 039/24 | D112: 45566 | E112: 45567 | F112: 45600 | G112: 45663 | H112: 12886598 | I112: =H112*0.18 -> 2319587.6 | J112: =-H112*3% -> -386597.94 | K112: =+H112+J112 -> 12500000 | L112: =H112+I112+J112 -> 14819588 | M112: 14819588 | N112: =+M112-I112-J112 -> 12886598 | O112: =+M112-I112 -> 12500000 | P112: =+L112-M112 -> -0.3 | Q112: =P112 -> -0.3 | R112: =H112-N112 -> -0.3 | S112: =Q112 -> -0.3 | T112: =+F112+30 -> 45630
C113: Sous total AGIRE | H113: =SUM(H111:H112) -> 25773196 | I113: =SUM(I111:I112) -> 4639175.3 | J113: =SUM(J111:J112) -> -773195.88 | K113: =SUM(K111:K112) -> 25000000 | L113: =SUM(L111:L112) -> 29639175 | M113: =SUM(M111:M112) -> 29639176 | N113: =SUM(N111:N112) -> 25773197 | O113: =SUM(O111:O112) -> 25000001 | ... Q113: =SUM(Q111:Q112) -> -0.6 | R113: =H113-N113 -> -0.6 | S113: =SUM(S111:S112) -> -0.6
B114: SETEC SOUS TRAITANCE
C125: Sous total SETEC SOUS TRAITANCE | H125: =SUM(H114:H124) -> 0 | I125: =SUM(I114:I124) -> 0 | J125: =SUM(J114:J124) -> 0 | K125: =SUM(K114:K124) -> 0 | L125: =SUM(L114:L124) -> 0 | M125: =SUM(M114:M124) -> 0 | N125: =SUM(N114:N124) -> 0 | O125: =SUM(O114:O124) -> 0 | ... S125: =SUM(S114:S124) -> 0
B126: AFFAIREAF018 CONOCO | V126: RAP CONOCO
V127: =L126-M126 -> 0
V129: =+I126/2 -> 0 | W129: TVA
C130: Sous total CONOCO | H130: =SUM(H126:H129) -> 0 | I130: =SUM(I126:I129) -> 0 | J130: =SUM(J126:J129) -> 0 | K130: =SUM(K126:K129) -> 0 | L130: =SUM(L126:L129) -> 0 | M130: =SUM(M126:M129) -> 0 | N130: =SUM(N126:N129) -> 0 | O130: =SUM(O126:O129) -> 0 | ... S130: =SUM(S126:S129) -> 0
B131: AFFAIREAF019 NATIVE HOTEL
...

Sheet Feuil1
B4: POINT DES DERNIERS REGLEMENTS CLIENTS ET ENCAISSEMENTS CHEQUES
B6: Eléments | C6: Banque du Tireur | D6: Montant du chèque | E6: Banque proposée pour la remise
B7: Chèque de NSIA (Sinistre lié au véhicule de ZOCLI) | C7: BOA | D7: 1790000 | E7: BAB
B8: Règlement de la facture des 30% de coahing du DAF et des 100% de l'Etude d'exécution et Bilan ADM | C8: BIIC | D8: 23279500 | E8: BAB
B9: Règlement de la facture de CDCB | C9: BIIC | D9: 3705750 | E9: BAB
D10: =SUM(D7:D9) -> 28775250
